BEGIN:VCALENDAR
VERSION:2.0
PRODID:-//ChamberMaster//Event Calendar 2.0//EN
METHOD:PUBLISH
X-PUBLISHED-TTL:P3D
REFRESH-INTERVAL:P3D
CALSCALE:GREGORIAN
BEGIN:VEVENT
DTSTART;VALUE=DATE:20251001
DTEND;VALUE=DATE:20251101
TRANSP:TRANSPARENT
X-MICROSOFT-CDO-ALLDAYEVENT:TRUE
SUMMARY:Wicked Crawl for Cancer
DESCRIPTION:Grab your friends and family\, dust off your favorite costumes\, and head to Conway for a wickedly great time! Join the Wicked Crawl for Cancer and enjoy specialty concoctions and treats at participating local establishments while supporting cancer patients in our community.\n\n\n\nHow It Works\n\nThroughout the month of October\, participating locations will offer special "Wicked Concoctions"   delicious specialty drinks and treats created specifically for this fundraiser. Visit multiple locations to experience the variety of offerings while supporting a great cause.\n\n100% of proceeds from these specialty items will directly benefit local cancer patients.\n\n\n\nAbout the Cancer Care Fund\n\nThe CMC Foundation's Cancer Care Fund provides critical financial assistance to local cancer patients during treatment. The fund helps cover:\n\n\n\nHealth needs and medical expenses\n\nCritical living expenses during treatment\n\nImmediate financial assistance while other resources are arranged\n\n\n\nSocial workers and medical staff at the CMC Cancer Center identify patients in need and approve assistance based on individual circumstances. This fund helps ease the financial burden so patients can focus on hope\, health\, and healing.\n\n\n\nParticipating Locations\n\nVisit our website to view the complete list of participating establishments and see what each location is serving up for the Wicked Crawl!\n\nFor more information: https://www.cmcfoundationsc.com/events/wicked-crawl-for-cancer/\n\n\n\nCONTACT INFORMATION: https://www.cmcfoundationsc.com/events/wicked-crawl-for-cancer/
X-ALT-DESC;FMTTYPE=text/html:<span style="color: rgb(34\, 34\, 34)\; font-family: sans-serif\; font-size: 12px\;">Grab your friends and family\, dust off your favorite costumes\, and head to Conway for a wickedly great time! Join the Wicked Crawl for Cancer and enjoy specialty concoctions and treats at participating local establishments while supporting cancer patients in our community.</span><br style="color: rgb(34\, 34\, 34)\; font-family: sans-serif\; font-size: 12px\;" />\n<br style="color: rgb(34\, 34\, 34)\; font-family: sans-serif\; font-size: 12px\;" />\n<strong><span style="color: rgb(34\, 34\, 34)\; font-family: sans-serif\; font-size: 12px\;">How It Works</span></strong><br style="color: rgb(34\, 34\, 34)\; font-family: sans-serif\; font-size: 12px\;" />\n<span style="color: rgb(34\, 34\, 34)\; font-family: sans-serif\; font-size: 12px\;">Throughout the month of October\, participating locations will offer special &quot\;Wicked Concoctions&quot\; &ndash\; delicious specialty drinks and treats created specifically for this fundraiser. Visit multiple locations to experience the variety of offerings while supporting a great cause.</span><br style="color: rgb(34\, 34\, 34)\; font-family: sans-serif\; font-size: 12px\;" />\n<span style="color: rgb(34\, 34\, 34)\; font-family: sans-serif\; font-size: 12px\;">100% of proceeds from these specialty items will directly benefit local cancer patients.</span><br style="color: rgb(34\, 34\, 34)\; font-family: sans-serif\; font-size: 12px\;" />\n<br style="color: rgb(34\, 34\, 34)\; font-family: sans-serif\; font-size: 12px\;" />\n<strong><span style="color: rgb(34\, 34\, 34)\; font-family: sans-serif\; font-size: 12px\;">About the Cancer Care Fund</span></strong><br style="color: rgb(34\, 34\, 34)\; font-family: sans-serif\; font-size: 12px\;" />\n<span style="color: rgb(34\, 34\, 34)\; font-family: sans-serif\; font-size: 12px\;">The CMC Foundation&#39\;s Cancer Care Fund provides critical financial assistance to local cancer patients during treatment. The fund helps cover:</span><br style="color: rgb(34\, 34\, 34)\; font-family: sans-serif\; font-size: 12px\;" />\n<br style="color: rgb(34\, 34\, 34)\; font-family: sans-serif\; font-size: 12px\;" />\n<span style="color: rgb(34\, 34\, 34)\; font-family: sans-serif\; font-size: 12px\;">Health needs and medical expenses</span><br style="color: rgb(34\, 34\, 34)\; font-family: sans-serif\; font-size: 12px\;" />\n<span style="color: rgb(34\, 34\, 34)\; font-family: sans-serif\; font-size: 12px\;">Critical living expenses during treatment</span><br style="color: rgb(34\, 34\, 34)\; font-family: sans-serif\; font-size: 12px\;" />\n<span style="color: rgb(34\, 34\, 34)\; font-family: sans-serif\; font-size: 12px\;">Immediate financial assistance while other resources are arranged</span><br style="color: rgb(34\, 34\, 34)\; font-family: sans-serif\; font-size: 12px\;" />\n<br style="color: rgb(34\, 34\, 34)\; font-family: sans-serif\; font-size: 12px\;" />\n<span style="color: rgb(34\, 34\, 34)\; font-family: sans-serif\; font-size: 12px\;">Social workers and medical staff at the CMC Cancer Center identify patients in need and approve assistance based on individual circumstances. This fund helps ease the financial burden so patients can focus on hope\, health\, and healing.</span><br style="color: rgb(34\, 34\, 34)\; font-family: sans-serif\; font-size: 12px\;" />\n<br style="color: rgb(34\, 34\, 34)\; font-family: sans-serif\; font-size: 12px\;" />\n<strong><span style="color: rgb(34\, 34\, 34)\; font-family: sans-serif\; font-size: 12px\;">Participating Locations</span></strong><br style="color: rgb(34\, 34\, 34)\; font-family: sans-serif\; font-size: 12px\;" />\n<span style="color: rgb(34\, 34\, 34)\; font-family: sans-serif\; font-size: 12px\;">Visit our website to view the complete list of participating establishments and see what each location is serving up for the Wicked Crawl!</span><br style="color: rgb(34\, 34\, 34)\; font-family: sans-serif\; font-size: 12px\;" />\n<span style="color: rgb(34\, 34\, 34)\; font-family: sans-serif\; font-size: 12px\;">For more information:&nbsp\;</span><a data-saferedirecturl="https://www.google.com/url?q=https://www.cmcfoundationsc.com/events/wicked-crawl-for-cancer/&amp\;source=gmail&amp\;ust=1758200282076000&amp\;usg=AOvVaw12PINBm0a3FleJbtorkqhg" href="https://www.cmcfoundationsc.com/events/wicked-crawl-for-cancer/" style="color: rgb(17\, 85\, 204)\; font-family: sans-serif\; font-size: 12px\;" target="_blank">https://www.cmcfoundationsc.<wbr />com/events/wicked-crawl-for-<wbr />cancer/</a><br style="color: rgb(34\, 34\, 34)\; font-family: sans-serif\; font-size: 12px\;" />\n<br style="color: rgb(34\, 34\, 34)\; font-family: sans-serif\; font-size: 12px\;" />\n<span style="color: rgb(34\, 34\, 34)\; font-family: sans-serif\; font-size: 12px\;">CONTACT INFORMATION:&nbsp\;</span><a data-saferedirecturl="https://www.google.com/url?q=https://www.cmcfoundationsc.com/events/wicked-crawl-for-cancer/&amp\;source=gmail&amp\;ust=1758200282076000&amp\;usg=AOvVaw12PINBm0a3FleJbtorkqhg" href="https://www.cmcfoundationsc.com/events/wicked-crawl-for-cancer/" style="color: rgb(17\, 85\, 204)\; font-family: sans-serif\; font-size: 12px\;" target="_blank">https://www.cmcfoundationsc.<wbr />com/events/wicked-crawl-for-<wbr />cancer/</a>
LOCATION:Downtown Conway
UID:e.3251.3497
SEQUENCE:3
DTSTAMP:20260422T224347Z
URL:https://business.conwayscchamber.com/events/details/wicked-crawl-for-cancer-3497
END:VEVENT

END:VCALENDAR
