BEGIN:VCALENDAR
VERSION:2.0
PRODID:-//ChamberMaster//Event Calendar 2.0//EN
METHOD:PUBLISH
X-PUBLISHED-TTL:P3D
REFRESH-INTERVAL:P3D
CALSCALE:GREGORIAN
BEGIN:VEVENT
DTSTART:20260113T190000Z
DTEND:20260113T220000Z
X-MICROSOFT-CDO-ALLDAYEVENT:FALSE
SUMMARY:Westwood Reserve Ribbon Cutting
DESCRIPTION:Join us Tuesday\, January 13 at 2 p.m. for the Grand Opening and Ribbon Cutting of Westwood Reserve! Come celebrate this exciting new community and tour the beautiful home!\n\n\n\nRSVP through the link below!\n\nhttps://www.eventbrite.com/e/southern-sophistication-a-luxe-sip-see-at-westwood-reserve-tickets-1977910140474?aff=oddtdtcreator
X-ALT-DESC;FMTTYPE=text/html:Join us Tuesday\, January 13 at 2 p.m. for the Grand Opening and Ribbon Cutting of Westwood Reserve! Come celebrate this exciting new community and tour the beautiful home!<br />\n<br />\nRSVP through the link below!<br />\n<a data-saferedirecturl="https://www.google.com/url?q=https://www.eventbrite.com/e/southern-sophistication-a-luxe-sip-see-at-westwood-reserve-tickets-1977910140474?aff%3Doddtdtcreator&amp\;source=gmail&amp\;ust=1767991179433000&amp\;usg=AOvVaw364AMsNOkHOwdVUu5sD8BX" href="https://www.eventbrite.com/e/southern-sophistication-a-luxe-sip-see-at-westwood-reserve-tickets-1977910140474?aff=oddtdtcreator" style="color: rgb(17\, 85\, 204)\; font-family: Arial\, Helvetica\, sans-serif\; font-size: small\;" target="_blank">https://www.eventbrite.com/e/<wbr />southern-sophistication-a-<wbr />luxe-sip-see-at-westwood-<wbr />reserve-tickets-1977910140474?<wbr />aff=oddtdtcreator</a>
LOCATION:4208 Collins Farm Way Conway\, SC 29526
UID:e.3251.3600
SEQUENCE:3
DTSTAMP:20260422T182407Z
URL:https://business.conwayscchamber.com/events/details/westwood-reserve-ribbon-cutting-3600
END:VEVENT

END:VCALENDAR
