BEGIN:VCALENDAR
VERSION:2.0
PRODID:-//ChamberMaster//Event Calendar 2.0//EN
METHOD:PUBLISH
X-PUBLISHED-TTL:P3D
REFRESH-INTERVAL:P3D
CALSCALE:GREGORIAN
BEGIN:VEVENT
DTSTART:20230623T120000Z
DTEND:20230623T190000Z
X-MICROSOFT-CDO-ALLDAYEVENT:FALSE
SUMMARY:WES Foundation Golf Tournament
DESCRIPTION:WES Foundation Golf Tournament\n\nThe WES Foundation's 3rd Annual Golf Tournament is the major fundraiser for The WES Foundation.  Our purpose and goal is to help kids understand that they can be successful without being a professional athlete.  We want them to chase their dream because there is so much they can learn from chasing those dreams such as teamwork\, perseverance\, work ethic\, and discipline among other things.  We want to help these young people also start thinking about what's next after their sport ends.  We talk about things like mental wellness\, financial literacy\, leadership development and other life skills.\n\n \n\nHelp us impact our youth and help them find success beyond athletics!
X-ALT-DESC;FMTTYPE=text/html:<p style="box-sizing: border-box\; margin: 0px\; padding: 0px\; overflow-wrap: break-word\; font-family: &quot\;Varela Round&quot\;\; color: rgb(39\, 41\, 42)\; background-color: rgba(255\, 255\, 255\, 0.85)\; font-size: 14px !important\; line-height: 1.5 !important\; text-align: center\;"><span style="box-sizing: border-box\; margin: 0px\; padding: 0px\; font-size: 18px\;">WES Foundation Golf Tournament</span></p>\n\n<p style="box-sizing: border-box\; margin: 0px\; padding: 0px\; overflow-wrap: break-word\; font-family: &quot\;Varela Round&quot\;\; color: rgb(39\, 41\, 42)\; background-color: rgba(255\, 255\, 255\, 0.85)\; font-size: 14px !important\; line-height: 1.5 !important\;"><span style="box-sizing: border-box\; margin: 0px\; padding: 0px\; font-size: 18px\;">The WES Foundation&#39\;s 3rd Annual Golf Tournament is the major fundraiser for The WES Foundation.&nbsp\; Our purpose and goal is to help kids understand that they can be successful without being a professional athlete.&nbsp\; We want them to chase their dream because there is so much they can learn from chasing those dreams such as teamwork\, perseverance\, work ethic\, and discipline among other things.&nbsp\; We want to help these young people also start thinking about what&#39\;s next after their sport ends.&nbsp\; We talk about things like mental wellness\, financial literacy\, leadership development and other life skills.</span></p>\n\n<p style="box-sizing: border-box\; margin: 0px\; padding: 0px\; overflow-wrap: break-word\; font-family: &quot\;Varela Round&quot\;\; color: rgb(39\, 41\, 42)\; background-color: rgba(255\, 255\, 255\, 0.85)\; font-size: 14px !important\; line-height: 1.5 !important\;">&nbsp\;</p>\n\n<p style="box-sizing: border-box\; margin: 0px\; padding: 0px\; overflow-wrap: break-word\; font-family: &quot\;Varela Round&quot\;\; color: rgb(39\, 41\, 42)\; background-color: rgba(255\, 255\, 255\, 0.85)\; font-size: 14px !important\; line-height: 1.5 !important\;"><span style="box-sizing: border-box\; margin: 0px\; padding: 0px\; font-size: 18px\;">Help us impact our youth and help them find success beyond athletics!</span></p>\n
LOCATION:Hackler Golf Course
UID:e.3251.1793
SEQUENCE:3
DTSTAMP:20260424T110805Z
URL:https://business.conwayscchamber.com/events/details/wes-foundation-golf-tournament-1793
END:VEVENT

END:VCALENDAR
