BEGIN:VCALENDAR
VERSION:2.0
PRODID:-//ChamberMaster//Event Calendar 2.0//EN
METHOD:PUBLISH
X-PUBLISHED-TTL:P3D
REFRESH-INTERVAL:P3D
CALSCALE:GREGORIAN
BEGIN:VEVENT
DTSTART:20250208T230000Z
DTEND:20250209T020000Z
X-MICROSOFT-CDO-ALLDAYEVENT:FALSE
SUMMARY:Valentine's Village
DESCRIPTION:
X-ALT-DESC;FMTTYPE=text/html:
LOCATION:
UID:e.3251.3267
SEQUENCE:3
DTSTAMP:20260423T122810Z
URL:https://business.conwayscchamber.com/events/details/valentine-s-village-02-08-2025-3267
END:VEVENT

END:VCALENDAR
