BEGIN:VCALENDAR
VERSION:2.0
PRODID:-//ChamberMaster//Event Calendar 2.0//EN
METHOD:PUBLISH
X-PUBLISHED-TTL:P3D
REFRESH-INTERVAL:P3D
CALSCALE:GREGORIAN
BEGIN:VEVENT
DTSTART:20251206T180000Z
DTEND:20251206T190000Z
X-MICROSOFT-CDO-ALLDAYEVENT:FALSE
SUMMARY:“Ukes By the Sea to perform Christmas Music at the Horry County Museum”
DESCRIPTION:"Ukes By the Sea to perform Christmas Music at the Horry County Museum" The Horry County Museum presents a free Christmas concert by the local group Ukes By the Sea on Saturday\, December 6th\, at 1:00 PM. Ukes By The Sea is a light-hearted ukulele band based in Myrtle Beach\, SC. Members of the band range in age from 11 to 93. Their mission is to share joy through happy music. More information about Ukes By the Sea can be found at Facebook.com@ukes.by.the.sea.2024 The concert will be held in the Museum's McCown Auditorium located at 805 Main Street\, Conway\, S.C. This event is free and open to the public\, no reservations or tickets required. For more information\, call 843-915-5320 or email hcg.museum@horrycountysc.gov. For more information about our programs\, visit the museum website at www.horrycountymuseum.org.
X-ALT-DESC;FMTTYPE=text/html:&ldquo\;Ukes By the Sea to perform Christmas Music at the Horry County Museum&rdquo\; The Horry County Museum presents a free Christmas concert by the local group Ukes By the Sea on Saturday\, December 6th\, at 1:00 PM. Ukes By The Sea is a light-hearted ukulele band based in Myrtle Beach\, SC. Members of the band range in age from 11 to 93. Their mission is to share joy through happy music. More information about Ukes By the Sea can be found at Facebook.com@ukes.by.the.sea.2024 The concert will be held in the Museum&rsquo\;s McCown Auditorium located at 805 Main Street\, Conway\, S.C. This event is free and open to the public\, no reservations or tickets required. For more information\, call 843-915-5320 or email hcg.museum@horrycountysc.gov. For more information about our programs\, visit the museum website at www.horrycountymuseum.org.
LOCATION:Museum's McCown Auditorium located at 805 Main Street\, Conway\, S.C. 29526
UID:e.3251.3561
SEQUENCE:3
DTSTAMP:20260422T194843Z
URL:https://business.conwayscchamber.com/events/details/ukes-by-the-sea-to-perform-christmas-music-at-the-horry-county-museum-3561
END:VEVENT

END:VCALENDAR
