BEGIN:VCALENDAR
VERSION:2.0
PRODID:-//ChamberMaster//Event Calendar 2.0//EN
METHOD:PUBLISH
X-PUBLISHED-TTL:P3D
REFRESH-INTERVAL:P3D
CALSCALE:GREGORIAN
BEGIN:VEVENT
DTSTART:20251231T180000Z
DTEND:20251231T190000Z
X-MICROSOFT-CDO-ALLDAYEVENT:FALSE
SUMMARY:South Carolina Hall of Fame Film Series
DESCRIPTION:The 2025 Horry County Museum Documentary Film Series concludes with an installment of the South Carolina Hall of Fame Film Series produced by SCETV. This film will feature inductees from the Early 20th Century. Established in 1973\, The South Carolina Hall of Fame\, located in Myrtle Beach\, inducts one deceased and one contemporary honoree each year. It is by law the "official" Hall of Fame for South Carolina. There are nearly 100 members of the South Carolina Hall of Fame\, each of whom has made outstanding contributions to South Carolina's heritage\, history\, and progress. Biographies of Early 20th Century inductees include Wil Lou Gray\, Archibald Rutledge\, Elizabeth O'Neill Verner\, Mary Simms Oliphant\, Ann Austin Young\, Benjamin Mays\, Elliott White Springs\, Septima Clark\, and Maude Callen. The film is free to the public and will be shown at 1:00 PM\, Wednesday\, December 31st\, at the Horry County Museum\, located at 805 Main Street in Conway. The Horry County Museum Documentary Film Matinees will resume in 2026. For a list of films\, visit our website at www.horrycountymuseum.org. For more information\, call the Horry County Museum at 843-915-5320 or e-mail hcg.museum@horrycountysc.gov.
X-ALT-DESC;FMTTYPE=text/html:The 2025 Horry County Museum Documentary Film Series concludes with an installment of the South Carolina Hall of Fame Film Series produced by SCETV. This film will feature inductees from the Early 20th Century. Established in 1973\, The South Carolina Hall of Fame\, located in Myrtle Beach\, inducts one deceased and one contemporary honoree each year. It is by law the &ldquo\;official&rdquo\; Hall of Fame for South Carolina. There are nearly 100 members of the South Carolina Hall of Fame\, each of whom has made outstanding contributions to South Carolina&rsquo\;s heritage\, history\, and progress. Biographies of Early 20th Century inductees include Wil Lou Gray\, Archibald Rutledge\, Elizabeth O&rsquo\;Neill Verner\, Mary Simms Oliphant\, Ann Austin Young\, Benjamin Mays\, Elliott White Springs\, Septima Clark\, and Maude Callen. The film is free to the public and will be shown at 1:00 PM\, Wednesday\, December 31st\, at the Horry County Museum\, located at 805 Main Street in Conway. The Horry County Museum Documentary Film Matinees will resume in 2026. For a list of films\, visit our website at www.horrycountymuseum.org. For more information\, call the Horry County Museum at 843-915-5320 or e-mail hcg.museum@horrycountysc.gov.
LOCATION:Horry County Museum\, 805 Main Street Conway SC 29526
UID:e.3251.3566
SEQUENCE:3
DTSTAMP:20260422T195006Z
URL:https://business.conwayscchamber.com/events/details/south-carolina-hall-of-fame-film-series-3566
END:VEVENT

END:VCALENDAR
