BEGIN:VCALENDAR
VERSION:2.0
PRODID:-//ChamberMaster//Event Calendar 2.0//EN
METHOD:PUBLISH
X-PUBLISHED-TTL:P3D
REFRESH-INTERVAL:P3D
CALSCALE:GREGORIAN
BEGIN:VEVENT
DTSTART:20230610T170000Z
DTEND:20230610T200000Z
X-MICROSOFT-CDO-ALLDAYEVENT:FALSE
SUMMARY:Rivertown Wine-Around
DESCRIPTION:The Rivertown Wine-Around is June 10 from 1:00-4:00 PM.\n\n\n\nIf your business would like to participate as a tasting location\, email events@conwayalive.com or call Conway Downtown Alive at 843-248-6260.\n\n\n\nTickets go on sale in April.
X-ALT-DESC;FMTTYPE=text/html:<p><span style="font-size:20px\;"><span style="font-family:arial\;"><span style="color:black\;">The Rivertown Wine-Around is June 10 from 1:00-4:00 PM.<br />\n<br />\nIf your business would like to participate as a tasting location\, email </span><a href="mailto:events@conwayalive.com" target="_blank">events@conwayalive.com</a> <span style="color:black\;">or call Conway Downtown Alive at 843-248-6260.<br />\n<br />\nTickets go on sale in April.</span></span></span></p>\n
LOCATION:
UID:e.3251.1539
SEQUENCE:3
DTSTAMP:20260419T180805Z
URL:https://business.conwayscchamber.com/events/details/rivertown-wine-around-1539
END:VEVENT

END:VCALENDAR
