BEGIN:VCALENDAR
VERSION:2.0
PRODID:-//ChamberMaster//Event Calendar 2.0//EN
METHOD:PUBLISH
X-PUBLISHED-TTL:P3D
REFRESH-INTERVAL:P3D
CALSCALE:GREGORIAN
BEGIN:VEVENT
DTSTART:20230617T150000Z
DTEND:20230617T160000Z
X-MICROSOFT-CDO-ALLDAYEVENT:FALSE
SUMMARY:RIBBON CUTTING | Stella's Homemade Ice Cream
DESCRIPTION:We all Scream for Ice Cream! \n\n Stella's Homemade Ice Cream and Cakes is ready to welcome you into their new Conway location.\n\nJoin us as we celebrate with a Ribbon Cutting Ceremony!\n\nThe fun will begin at 11:00 AM\, see you there!
X-ALT-DESC;FMTTYPE=text/html:<h1 style="text-align: center\;"><span style="font-family:verdana\;">We all Scream for Ice Cream!&nbsp\;</span></h1>\n\n<div style="text-align: center\;"><span style="font-size:16px\;"><span style="font-family:tahoma\;">&nbsp\;Stella&#39\;s Homemade Ice Cream and Cakes is ready to welcome you into their new Conway location.<br />\nJoin us as we celebrate with a Ribbon Cutting Ceremony!<br />\nThe fun will begin at 11:00 AM\, see you there!</span></span></div>\n
LOCATION:Stella's Homemade Ice Cream 1101 4th Avenue Conway\, SC 29576
UID:e.3251.1782
SEQUENCE:3
DTSTAMP:20260424T111139Z
URL:https://business.conwayscchamber.com/events/details/ribbon-cutting-stella-s-homemade-ice-cream-1782
END:VEVENT

END:VCALENDAR
