BEGIN:VCALENDAR
VERSION:2.0
PRODID:-//ChamberMaster//Event Calendar 2.0//EN
METHOD:PUBLISH
X-PUBLISHED-TTL:P3D
REFRESH-INTERVAL:P3D
CALSCALE:GREGORIAN
BEGIN:VEVENT
DTSTART:20251008T140000Z
DTEND:20251008T150000Z
X-MICROSOFT-CDO-ALLDAYEVENT:FALSE
SUMMARY:Ribbon Cutting - Radial
DESCRIPTION:Join us for a Ribbon Cutting Ceremony for the Grand Opening of Radial!\n\n\n\nRefreshments provided by Casey's Cookieworx
X-ALT-DESC;FMTTYPE=text/html:Join us for a Ribbon Cutting Ceremony for the Grand Opening of Radial!<br />\n<br />\nRefreshments provided by Casey&#39\;s Cookieworx<br />\n<br />\n&nbsp\;
LOCATION:1301 Main Street Conway\, SC 29526
UID:e.3251.3509
SEQUENCE:3
DTSTAMP:20260422T224353Z
URL:https://business.conwayscchamber.com/events/details/ribbon-cutting-radial-3509
END:VEVENT

END:VCALENDAR
