BEGIN:VCALENDAR
VERSION:2.0
PRODID:-//ChamberMaster//Event Calendar 2.0//EN
METHOD:PUBLISH
X-PUBLISHED-TTL:P3D
REFRESH-INTERVAL:P3D
CALSCALE:GREGORIAN
BEGIN:VEVENT
DTSTART:20230601T140000Z
DTEND:20230601T150000Z
X-MICROSOFT-CDO-ALLDAYEVENT:FALSE
SUMMARY:RIBBON CUTTING | KidCare Pediatric Urgent Care
DESCRIPTION:Welcome!\n\nJoin us as we celebrate the FIRST and ONLY Pediatric Urgent Care opening right here in Conway! Kid Care Pediatric Urgent Care\, LLC was created with the needs of the local pediatric population and their parents/caregivers in mind. With the ever-growing population\, it is often hard to get same day appointments when they are needed most. We are available for supplemental care in addition to your pediatrician. Let's Celebrate this AMAZING addition to the Conway Community\, with a Ribbon Cutting for their GRAND OPENING!
X-ALT-DESC;FMTTYPE=text/html:<h1 style="text-align: center\;"><span style="font-size:18px\;"><span style="font-family:tahoma\;">Welcome!</span></span></h1>\n\n<div style="text-align: center\;"><span style="font-size:14px\;"><span style="font-family:tahoma\;">Join us as we celebrate the FIRST and ONLY Pediatric Urgent Care opening right here in Conway!&nbsp\;<span style="text-align: center\;">Kid Care Pediatric Urgent Care\, LLC was created with the needs of the local pediatric population and their parents/caregivers in mind. With the ever-growing population\, it is often hard to get same day appointments when they are needed most. We are available for supplemental care in addition to your pediatrician.&nbsp\;</span>Let&#39\;s Celebrate this AMAZING addition to the Conway Community\, with a Ribbon Cutting for their GRAND OPENING!&nbsp\;</span></span></div>\n
LOCATION:KidCare Urgent Care 212 Main Street\, Suite A Conway\, SC 29576
UID:e.3251.1785
SEQUENCE:3
DTSTAMP:20260424T111129Z
URL:https://business.conwayscchamber.com/events/details/ribbon-cutting-kidcare-pediatric-urgent-care-1785
END:VEVENT

END:VCALENDAR
