BEGIN:VCALENDAR
VERSION:2.0
PRODID:-//ChamberMaster//Event Calendar 2.0//EN
METHOD:PUBLISH
X-PUBLISHED-TTL:P3D
REFRESH-INTERVAL:P3D
CALSCALE:GREGORIAN
BEGIN:VEVENT
DTSTART:20230603T140000Z
DTEND:20230603T160000Z
X-MICROSOFT-CDO-ALLDAYEVENT:FALSE
SUMMARY:RIBBON CUTTING | Kainan Filipino Eatery
DESCRIPTION:Mabuhay! \n\nJoin us for a celebration! Kainan Filipino Eatery is celebrating ONE year in business with a Cultural Ribbon Cutting Ceremony! Let's celebrate their success and the Filipino culture with Traditional Prayers\, Philippines Dances\, and Thanksgiving snacks to share together! Festivities will start at 10:00 AM
X-ALT-DESC;FMTTYPE=text/html:<h1 style="text-align: center\;"><span style="font-family:verdana\;">Mabuhay!&nbsp\;</span></h1>\n\n<div style="text-align: center\;"><span style="font-size:16px\;"><span style="font-family:tahoma\;">Join us for a celebration! Kainan Filipino Eatery is celebrating ONE year in business with a Cultural Ribbon Cutting Ceremony! Let&#39\;s celebrate their success and the Filipino culture with Traditional Prayers\, Philippines Dances\, and Thanksgiving snacks to share together! Festivities will start at 10:00 AM&nbsp\;</span></span></div>\n
LOCATION:Kainan Filipino Eatery 330 N Main Street Conway\, SC 29576
UID:e.3251.1781
SEQUENCE:3
DTSTAMP:20260424T111037Z
URL:https://business.conwayscchamber.com/events/details/ribbon-cutting-kainan-filipino-eatery-1781
END:VEVENT

END:VCALENDAR
