BEGIN:VCALENDAR
VERSION:2.0
PRODID:-//ChamberMaster//Event Calendar 2.0//EN
METHOD:PUBLISH
X-PUBLISHED-TTL:P3D
REFRESH-INTERVAL:P3D
CALSCALE:GREGORIAN
BEGIN:VEVENT
DTSTART:20250603T173000Z
DTEND:20250603T180000Z
X-MICROSOFT-CDO-ALLDAYEVENT:FALSE
SUMMARY:Ribbon Cutting for Studio D Hair Salon
DESCRIPTION:Join us in celebrating our ribbon cutting!
X-ALT-DESC;FMTTYPE=text/html:Join us in celebrating our ribbon cutting!
LOCATION:This is a private ribbon cutting. All Chamber Members\, Ambassadors\, Board\, and Staff are invited to attend.
UID:e.3251.3399
SEQUENCE:3
DTSTAMP:20260423T050649Z
URL:https://business.conwayscchamber.com/events/details/ribbon-cutting-for-studio-d-hair-salon-3399
END:VEVENT

END:VCALENDAR
