BEGIN:VCALENDAR
VERSION:2.0
PRODID:-//ChamberMaster//Event Calendar 2.0//EN
METHOD:PUBLISH
X-PUBLISHED-TTL:P3D
REFRESH-INTERVAL:P3D
CALSCALE:GREGORIAN
BEGIN:VEVENT
DTSTART:20250603T153000Z
DTEND:20250603T173000Z
X-MICROSOFT-CDO-ALLDAYEVENT:FALSE
SUMMARY:Ribbon Cutting for DR Horton - The Preserve
DESCRIPTION:Join us in celebrating a ribbon cutting with DR Horton!
X-ALT-DESC;FMTTYPE=text/html:Join us in celebrating a ribbon cutting with DR Horton!
LOCATION:118 Leyland Cypress Drive\, Conway\, SC 29526
UID:e.3251.3386
SEQUENCE:3
DTSTAMP:20260423T045034Z
URL:https://business.conwayscchamber.com/events/details/ribbon-cutting-for-dr-horton-the-preserve-3386
END:VEVENT

END:VCALENDAR
