BEGIN:VCALENDAR
VERSION:2.0
PRODID:-//ChamberMaster//Event Calendar 2.0//EN
METHOD:PUBLISH
X-PUBLISHED-TTL:P3D
REFRESH-INTERVAL:P3D
CALSCALE:GREGORIAN
BEGIN:VEVENT
DTSTART:20250710T180000Z
DTEND:20250710T190000Z
X-MICROSOFT-CDO-ALLDAYEVENT:FALSE
SUMMARY:Ribbon Cutting for Brews and Moo
DESCRIPTION:Join us in celebrating our ribbon cutting! All are invited to attend.
X-ALT-DESC;FMTTYPE=text/html:Join us in celebrating our ribbon cutting! All are invited to attend.
LOCATION:Collins Park - 16th Ave\, Conway\, SC 29527
UID:e.3251.3401
SEQUENCE:3
DTSTAMP:20260423T044854Z
URL:https://business.conwayscchamber.com/events/details/ribbon-cutting-for-brews-and-moo-3401
END:VEVENT

END:VCALENDAR
