BEGIN:VCALENDAR
VERSION:2.0
PRODID:-//ChamberMaster//Event Calendar 2.0//EN
METHOD:PUBLISH
X-PUBLISHED-TTL:P3D
REFRESH-INTERVAL:P3D
CALSCALE:GREGORIAN
BEGIN:VEVENT
DTSTART:20250107T180000Z
DTEND:20250107T190000Z
X-MICROSOFT-CDO-ALLDAYEVENT:FALSE
SUMMARY:Ribbon Cutting for Bellamy Law Firm
DESCRIPTION:
X-ALT-DESC;FMTTYPE=text/html:
LOCATION:315 Main Street Unit 2 Conway\, SC 29526
UID:e.3251.3234
SEQUENCE:3
DTSTAMP:20260423T135618Z
URL:https://business.conwayscchamber.com/events/details/ribbon-cutting-for-bellamy-law-firm-3234
END:VEVENT

END:VCALENDAR
