BEGIN:VCALENDAR
VERSION:2.0
PRODID:-//ChamberMaster//Event Calendar 2.0//EN
METHOD:PUBLISH
X-PUBLISHED-TTL:P3D
REFRESH-INTERVAL:P3D
CALSCALE:GREGORIAN
BEGIN:VEVENT
DTSTART:20251008T160000Z
DTEND:20251008T173000Z
X-MICROSOFT-CDO-ALLDAYEVENT:FALSE
SUMMARY:Ribbon Cutting - D.R. Horton Shaftsbury Glenn
DESCRIPTION:Join us for the Grand Opening of The Preserve at Shaftesbury Glen\, D.R. Horton's newest commuity in Conway\, SC! Explore their beautifully designed single-family homes\, discover the amenities and standard features\, and enjoy exciting giveaways. Guests will the chance to win a BlackStone Grill and spin the Bonus Commission Wheel!\n\n\n\nThe Ribbon Cutting Ceremony will take place around 12 noon.
X-ALT-DESC;FMTTYPE=text/html:Join us for the Grand Opening of The Preserve at Shaftesbury Glen\, D.R. Horton&#39\;s newest commuity in Conway\, SC! Explore their beautifully designed single-family homes\, discover the amenities and standard features\, and enjoy exciting giveaways. Guests will the chance to win a BlackStone Grill and spin the Bonus Commission Wheel!<br />\n<br />\nThe Ribbon Cutting Ceremony will take place around 12 noon.&nbsp\;
LOCATION:154 Bantry Lane Conway SC 29526
UID:e.3251.3510
SEQUENCE:3
DTSTAMP:20260422T224811Z
URL:https://business.conwayscchamber.com/events/details/ribbon-cutting-d-r-horton-shaftsbury-glenn-3510
END:VEVENT

END:VCALENDAR
