BEGIN:VCALENDAR
VERSION:2.0
PRODID:-//ChamberMaster//Event Calendar 2.0//EN
METHOD:PUBLISH
X-PUBLISHED-TTL:P3D
REFRESH-INTERVAL:P3D
CALSCALE:GREGORIAN
BEGIN:VEVENT
DTSTART:20250604T173000Z
DTEND:20250604T220000Z
X-MICROSOFT-CDO-ALLDAYEVENT:FALSE
SUMMARY:Red Flags of Fraud – Free Realtor CE Presentation
DESCRIPTION:An informative and engaging presentation designed specifically for real estate professionals\, lenders\, and others responsible for real estate transactions. Please join us to gain insights from experienced professionals on how to identify\, prevent\, and respond to fraudulent activity in transactions. There will also be informative sessions on cybersecurity and artificial intelligence. Earn 3 CE credits ?? Space is limited   RSVP now! Simply email Jeanna King at jking@invtitle.com to register and secure your spot. Hosted by The Pearce Law Group\, PC and Investors Title
X-ALT-DESC;FMTTYPE=text/html:An informative and engaging presentation designed specifically for real estate professionals\, lenders\, and others responsible for real estate transactions. Please join us to gain insights from experienced professionals on how to identify\, prevent\, and respond to fraudulent activity in transactions. There will also be informative sessions on cybersecurity and artificial intelligence. Earn 3 CE credits ?? Space is limited &ndash\; RSVP now! Simply email Jeanna King at jking@invtitle.com to register and secure your spot. Hosted by The Pearce Law Group\, PC and Investors Title
LOCATION:5th & Main\, 428 North Main Street\, Conway
UID:e.3251.3396
SEQUENCE:3
DTSTAMP:20260423T045038Z
URL:https://business.conwayscchamber.com/events/details/red-flags-of-fraud-free-realtor-ce-presentation-3396
END:VEVENT

END:VCALENDAR
