BEGIN:VCALENDAR
VERSION:2.0
PRODID:-//ChamberMaster//Event Calendar 2.0//EN
METHOD:PUBLISH
X-PUBLISHED-TTL:P3D
REFRESH-INTERVAL:P3D
CALSCALE:GREGORIAN
BEGIN:VEVENT
DTSTART:20250621T150000Z
DTEND:20250621T160000Z
X-MICROSOFT-CDO-ALLDAYEVENT:FALSE
SUMMARY:“Quilts of Valor at the Horry County Museum”
DESCRIPTION:The public is invited to view a special Quilts of Valor presentation at the Horry County Museum. Quilts made especially for local veterans will be presented by the Conway Quilt Guild Quilts of Valor Group on Saturday\, June 21st at 11 AM. The mission of the Quilts of Valor Foundation (QOVF) is to cover all service members and veterans\, touched by war\, with a comforting and healing quilt. Since 2003\, the foundation\, now a national organization\, has awarded over 400\,000 quilts to veterans throughout the country. The Conway Quilt Guild has been recognized as one of the newest QOV groups\, seeking to expand recognition to veterans in the northern and western parts of Horry County. To nominate a veteran for a Quilt of Valor\, visit www.qovf.org. For more information about the Conway Quilt Guild\, email conwayquilters@yahoo.com. This program is free and open to the public and will be held in the Museum's McCown Auditorium\, located at 805 Main Street in Conway\, SC. To view a full list of programs at the Horry County Museum\, visit our website at www.horrycountymuseum.org.
X-ALT-DESC;FMTTYPE=text/html:The public is invited to view a special Quilts of Valor presentation at the Horry County Museum. Quilts made especially for local veterans will be presented by the Conway Quilt Guild Quilts of Valor Group on Saturday\, June 21st at 11 AM. The mission of the Quilts of Valor Foundation (QOVF) is to cover all service members and veterans\, touched by war\, with a comforting and healing quilt. Since 2003\, the foundation\, now a national organization\, has awarded over 400\,000 quilts to veterans throughout the country. The Conway Quilt Guild has been recognized as one of the newest QOV groups\, seeking to expand recognition to veterans in the northern and western parts of Horry County. To nominate a veteran for a Quilt of Valor\, visit www.qovf.org. For more information about the Conway Quilt Guild\, email conwayquilters@yahoo.com. This program is free and open to the public and will be held in the Museum&rsquo\;s McCown Auditorium\, located at 805 Main Street in Conway\, SC. To view a full list of programs at the Horry County Museum\, visit our website at www.horrycountymuseum.org.
LOCATION:The Horry County Museum
UID:e.3251.3397
SEQUENCE:3
DTSTAMP:20260423T045159Z
URL:https://business.conwayscchamber.com/events/details/quilts-of-valor-at-the-horry-county-museum-06-21-2025-3397
END:VEVENT

END:VCALENDAR
