BEGIN:VCALENDAR
VERSION:2.0
PRODID:-//ChamberMaster//Event Calendar 2.0//EN
METHOD:PUBLISH
X-PUBLISHED-TTL:P3D
REFRESH-INTERVAL:P3D
CALSCALE:GREGORIAN
BEGIN:VEVENT
DTSTART:20260328T170000Z
DTEND:20260328T180000Z
X-MICROSOFT-CDO-ALLDAYEVENT:FALSE
SUMMARY:“Quilts of Valor at the Horry County Museum”
DESCRIPTION:The public is invited to view a special Quilts of Valor presentation at the Horry County Museum. Quilts made especially for local veterans will be presented by the Myrtle Beach Shorebirds Quilts of Valor Group on Saturday\, March 28th at 1 PM. The quilts to be awarded will be on display March 21st-26th at the Horry County Museum. The mission of the Quilts of Valor Foundation (QOVF) is to cover all service members and veterans\, touched by war\, with a comforting and healing quilt. Since 2003\, the foundation\, now a national organization\, has awarded over 400\,000 quilts to veterans throughout the country. To nominate a veteran for a Quilt of Valor\, visit www.qovf.org. This program is free and open to the public and will be held in the Museum's McCown Auditorium\, located at 805 Main Street in Conway\, SC. To view a full list of programs at the Horry County Museum\, visit our website at www.horrycountymuseum.org.
X-ALT-DESC;FMTTYPE=text/html:The public is invited to view a special Quilts of Valor presentation at the Horry County Museum. Quilts made especially for local veterans will be presented by the Myrtle Beach Shorebirds Quilts of Valor Group on Saturday\, March 28th at 1 PM. The quilts to be awarded will be on display March 21st-26th at the Horry County Museum. The mission of the Quilts of Valor Foundation (QOVF) is to cover all service members and veterans\, touched by war\, with a comforting and healing quilt. Since 2003\, the foundation\, now a national organization\, has awarded over 400\,000 quilts to veterans throughout the country. To nominate a veteran for a Quilt of Valor\, visit www.qovf.org. This program is free and open to the public and will be held in the Museum&rsquo\;s McCown Auditorium\, located at 805 Main Street in Conway\, SC. To view a full list of programs at the Horry County Museum\, visit our website at www.horrycountymuseum.org.
LOCATION:The Horry County Museum
UID:e.3251.3970
SEQUENCE:3
DTSTAMP:20260422T162311Z
URL:https://business.conwayscchamber.com/events/details/quilts-of-valor-at-the-horry-county-museum-03-28-2026-3970
END:VEVENT

END:VCALENDAR
