BEGIN:VCALENDAR
VERSION:2.0
PRODID:-//ChamberMaster//Event Calendar 2.0//EN
METHOD:PUBLISH
X-PUBLISHED-TTL:P3D
REFRESH-INTERVAL:P3D
CALSCALE:GREGORIAN
BEGIN:VEVENT
DTSTART:20260314T140000Z
DTEND:20260314T190000Z
X-MICROSOFT-CDO-ALLDAYEVENT:FALSE
SUMMARY:Parking Lot Yard Sale
DESCRIPTION:One day. One location. LOTS of deals. ?? Don't miss this multi-vendor yard sale perfect for bargain hunters and treasure seekers! ??? Multi-Vendor Parking Lot Yard Sale! ??? Come shop from multiple sellers in one location and score some amazing deals! You'll find a little bit of everything clothing\, home goods\, toys\, d cor\, and more. ?? Date: March 14 ? Time: 10am-3pm ?? Location: LW Marketplace 3133 Church St\, Unit B Conway\, SC ?? Great prices ?? Variety of items ?? Local sellers Bring a friend\, come early for the best finds\, and happy bargain hunting! ?? Vendor Information: We are accepting vendors for our Multi-Vendor Yard Sale! This is a great opportunity to clear out items and sell alongside other sellers in one busy location. ?? Vendors provide their own tent\, table(s)\, and chair(s) ?? Vendor fee: $25 for a 10'x10' space. No electric! This is an outdoor event ? Set-up time: 8:15 ?? Easy load-in/load-out ?? To apply for a spot\, complete the application: https://forms.gle/HjjZ8K7fkfeY2iTJ8 Spaces are limited and available on a first-come\, first-served basis.
X-ALT-DESC;FMTTYPE=text/html:One day. One location. LOTS of deals. ?? Don&rsquo\;t miss this multi-vendor yard sale&mdash\;perfect for bargain hunters and treasure seekers! ??? Multi-Vendor Parking Lot Yard Sale! ??? Come shop from multiple sellers in one location and score some amazing deals! You&rsquo\;ll find a little bit of everything&mdash\;clothing\, home goods\, toys\, d&eacute\;cor\, and more. ?? Date: March 14 ? Time: 10am-3pm ?? Location: LW Marketplace 3133 Church St\, Unit B Conway\, SC ?? Great prices ?? Variety of items ?? Local sellers Bring a friend\, come early for the best finds\, and happy bargain hunting! ?? Vendor Information: We are accepting vendors for our Multi-Vendor Yard Sale! This is a great opportunity to clear out items and sell alongside other sellers in one busy location. ?? Vendors provide their own tent\, table(s)\, and chair(s) ?? Vendor fee: $25 for a 10&#39\;x10&#39\; space. No electric! This is an outdoor event ? Set-up time: 8:15 ?? Easy load-in/load-out ?? To apply for a spot\, complete the application: https://forms.gle/HjjZ8K7fkfeY2iTJ8 Spaces are limited and available on a first-come\, first-served basis.
LOCATION:LW Marketplace 3133 Church St Conway\, SC
UID:e.3251.3975
SEQUENCE:3
DTSTAMP:20260422T150403Z
URL:https://business.conwayscchamber.com/events/details/parking-lot-yard-sale-3975
END:VEVENT

END:VCALENDAR
