BEGIN:VCALENDAR
VERSION:2.0
PRODID:-//ChamberMaster//Event Calendar 2.0//EN
METHOD:PUBLISH
X-PUBLISHED-TTL:P3D
REFRESH-INTERVAL:P3D
CALSCALE:GREGORIAN
BEGIN:VEVENT
DTSTART:20260509T120000Z
DTEND:20260509T180000Z
X-MICROSOFT-CDO-ALLDAYEVENT:FALSE
SUMMARY:Palmetto Goodwill Thrift Crawl
DESCRIPTION:Palmetto Goodwill Thrift Crawl - Grand Strand Edition Tickets\, Saturday\, May 9     8 AM - 2 PM | Eventbrite\n\nOverview\n\n \n\n\n\n\nShop for a cause at Palmetto Goodwill's Thrift Crawl on May 9! Early VIP access\, private transportation + more!\n\n\n\n\n\nPalmetto Goodwill Thrift Crawl in the Grand Strand!\n\n \n\nJoin us on Saturday\, May 9\, for a half-day of exclusive early shopping at our GW Boutique before we set off to other locations to score the best thrift deals! Seats are limited - don't wait!\n\n \n\nYour ticket includes:\n\n\n	Catered breakfast + lunch: Delicious meals\, coffee\, and morning mimosas plus snacks and refreshments to keep you fueled throughout the day.\n	Private Transportation: Convenient and comfortable minibus with room to hold your shopping bags and Wi-Fi to stay social while traveling.\n	Curated pop-up shops: Shop designer\, vintage\, and exclusive finds just for this event.\n	Special discount: Receive a discount card at check-in with special event pricing that can be used at every thrift crawl stop.\n	Custom gifts: Goodies to use throughout the thrift crawl and beyond.\n	Fun + games: Trivia\, raffles + multiple chances to win prizes.\n\n\n \n\nWhat to bring:\n\n\n	Your ID\n	Reusable shopping bags if you have them\n	A good attitude and a will to find the best thrift deals!\n\n\nHere's what your day will look like:\n\nGW Boutique Pawleys Island\n\n\n	Check in\, receive your VIP pass\, gifts\, and enjoy a catered breakfast with mimosas.\n	EARLY ACCESS to the boutique before the general public.\n	Exclusive access to a curated pop-up experience with designer and luxury finds.\n\n\nPrivate transportation to the second destination\n\n\n	Enjoy music\, trivia\, games + prizes\, snacks and refreshments\n\n\nPalmetto Goodwill Murrells Inlet\n\n\n	1 hour of shopping\n\n\nPrivate transportation to the third destination\n\n\n	Enjoy music\, trivia\, games + prizes\, snacks and refreshments\n\n\nPalmetto Goodwill Surfside\n\n\n	1 hour of shopping\n	Exclusive access to a curated pop-up experience\n\n\nPrivate transportation to the fourth destination\n\n\n	Enjoy music\, trivia\, games + prizes\, snacks and refreshments\n\n\nPalmetto Goodwill Market Commons\n\n\n	1 hour of shopping\n\n\nPrivate transportation returning to the GW Boutique (Pawleys Island)\n\nCatered lunch + shopping continues\n\n \n\nTicket Information\n\n\n	General Admission - $75/person\n\n\n \n\nMake an Impact:\n\nBy joining the Thrift Crawl\, you're supporting Palmetto Goodwill's mission to provide training\, education\, and job opportunities. Every purchase and donation makes a difference in our community.\n\nReserve your spot today and get ready to thrift and shop for a cause! We can't wait to see you there!
X-ALT-DESC;FMTTYPE=text/html:<div class="Overview_title__FO2Z4" style="box-sizing: border-box\; padding: 0px 0px 16px\; margin: 0px\; font-weight: 600\; line-height: 31.92px\; font-size: 24px\; color: rgb(38\, 27\, 54)\; font-family: &quot\;Neue Plak&quot\;\, -apple-system\, BlinkMacSystemFont\, Roboto\, &quot\;Helvetica Neue&quot\;\, Helvetica\, Tahoma\, Arial\, sans-serif\;"><span style="font-size:48px\;"><a data-saferedirecturl="https://www.google.com/url?q=https://www.eventbrite.com/e/palmetto-goodwill-thrift-crawl-grand-strand-edition-tickets-1986985827097?aff%3Doddtdtcreator&amp\;source=gmail&amp\;ust=1776789409043000&amp\;usg=AOvVaw3BJfIWiBWYB3M6fQgQ05-b" href="https://www.eventbrite.com/e/palmetto-goodwill-thrift-crawl-grand-strand-edition-tickets-1986985827097?aff=oddtdtcreator" id="m_-2678948013962018157OWA0b6d0e50-3329-196f-f163-4ac00ca355b5" style="color: rgb(17\, 85\, 204)\; font-family: Aptos\, Aptos_EmbeddedFont\, Aptos_MSFontService\, Calibri\, Helvetica\, sans-serif\; font-size: 16px\;" target="_blank">Palmetto Goodwill Thrift Crawl - Grand Strand Edition Tickets\, Saturday\, May 9 &nbsp\;&bull\;&nbsp\; 8 AM - 2 PM | Eventbrite</a></span><br />\nOverview</div>\n\n<div class="Overview_summaryWrapper__xGQx4" style="box-sizing: border-box\; padding: 0px\; margin: 0px\; position: relative\; color: rgb(38\, 27\, 54)\; font-family: &quot\;Neue Plak&quot\;\, -apple-system\, BlinkMacSystemFont\, Roboto\, &quot\;Helvetica Neue&quot\;\, Helvetica\, Tahoma\, Arial\, sans-serif\; font-size: medium\;">&nbsp\;</div>\n\n<div class="AboutThisEventEmbedded_container__wdFiD" style="box-sizing: border-box\; padding: 0px\; margin: 0px\; color: rgb(38\, 27\, 54)\; font-family: &quot\;Neue Plak&quot\;\, -apple-system\, BlinkMacSystemFont\, Roboto\, &quot\;Helvetica Neue&quot\;\, Helvetica\, Tahoma\, Arial\, sans-serif\; font-size: medium\;">\n<div class="StructuredModuleRenderer_structuredContent__k7mNB StructuredModuleRenderer_text__GaXOv" data-testid="text-content" style="box-sizing: border-box\; padding: 0px\; margin: 0px\; color: rgb(88\, 81\, 99)\; align-self: stretch\; overflow: hidden\; text-overflow: ellipsis\; line-height: 23.94px\; letter-spacing: 0.1px\; font-size: 18px\;">\n<div style="box-sizing: border-box\; padding: 0px\; margin: 0px\;">\n<p style="box-sizing: border-box\; padding: 0px 0px 12px\; margin: 0px\;">Shop for a cause at Palmetto Goodwill&rsquo\;s Thrift Crawl on May 9! Early VIP access\, private transportation + more!</p>\n</div>\n</div>\n\n<div class="StructuredModuleRenderer_structuredContent__k7mNB StructuredModuleRenderer_text__GaXOv" data-testid="text-content" style="box-sizing: border-box\; padding: 0px\; margin: 0px\; color: rgb(88\, 81\, 99)\; align-self: stretch\; overflow: hidden\; text-overflow: ellipsis\; line-height: 23.94px\; letter-spacing: 0.1px\; font-size: 18px\;">\n<div style="box-sizing: border-box\; padding: 0px\; margin: 0px\;">\n<h3 style="box-sizing: border-box\; padding: 0px\; margin: 0px\; font-weight: 600\; font-size: 20px\;"><span style="box-sizing: border-box\; padding: 0px\; margin: 0px\;">Palmetto Goodwill Thrift Crawl in the Grand Strand!</span></h3>\n\n<p style="box-sizing: border-box\; padding: 0px 0px 12px\; margin: 12px 0px 0px\;">&nbsp\;</p>\n\n<p style="box-sizing: border-box\; padding: 0px 0px 12px\; margin: 12px 0px 0px\;">Join us on&nbsp\;<span style="box-sizing: border-box\; padding: 0px\; margin: 0px\; font-weight: 600\;">Saturday\, May 9\,</span>&nbsp\;for a half-day of exclusive early shopping at our GW Boutique before we set off to other locations to score the best thrift deals! Seats are limited - don&#39\;t wait!</p>\n\n<p style="box-sizing: border-box\; padding: 0px 0px 12px\; margin: 12px 0px 0px\;">&nbsp\;</p>\n\n<h3 style="box-sizing: border-box\; padding: 0px\; margin: 12px 0px 0px\; font-weight: 600\; font-size: 20px\;"><span style="box-sizing: border-box\; padding: 0px\; margin: 0px\;">Your ticket includes:</span></h3>\n\n<ul style="box-sizing: border-box\; padding: 0px 0px 0px 32px\; margin: 12px 0px 0px\;">\n	<li style="box-sizing: border-box\; padding: 0px 0px 12px\; margin: 0px\;"><span style="box-sizing: border-box\; padding: 0px\; margin: 0px\; font-weight: 600\;">Catered breakfast + lunch</span><span style="box-sizing: border-box\; padding: 0px\; margin: 0px\; font-weight: 600\;">:</span><span style="box-sizing: border-box\; padding: 0px\; margin: 0px\; font-weight: 600\;">&nbsp\;</span>Delicious meals\, coffee\, and morning mimosas plus snacks and refreshments to keep you fueled throughout the day.</li>\n	<li style="box-sizing: border-box\; padding: 0px 0px 12px\; margin: 4px 0px 0px\;"><span style="box-sizing: border-box\; padding: 0px\; margin: 0px\; font-weight: 600\;">Private Transportation</span><span style="box-sizing: border-box\; padding: 0px\; margin: 0px\; font-weight: 600\;">:</span><span style="box-sizing: border-box\; padding: 0px\; margin: 0px\; font-weight: 600\;">&nbsp\;</span>Convenient and comfortable minibus with room to hold your shopping bags and Wi-Fi to stay social while traveling.</li>\n	<li style="box-sizing: border-box\; padding: 0px 0px 12px\; margin: 4px 0px 0px\;"><span style="box-sizing: border-box\; padding: 0px\; margin: 0px\; font-weight: 600\;">Curated pop-up shops:</span>&nbsp\;Shop designer\, vintage\, and exclusive finds just for this event.</li>\n	<li style="box-sizing: border-box\; padding: 0px 0px 12px\; margin: 4px 0px 0px\;"><span style="box-sizing: border-box\; padding: 0px\; margin: 0px\; font-weight: 600\;">Special discount:</span>&nbsp\;Receive a discount card at check-in with special event pricing that can be used at every thrift crawl stop.</li>\n	<li style="box-sizing: border-box\; padding: 0px 0px 12px\; margin: 4px 0px 0px\;"><span style="box-sizing: border-box\; padding: 0px\; margin: 0px\; font-weight: 600\;">Custom gifts:</span><span style="box-sizing: border-box\; padding: 0px\; margin: 0px\; font-weight: 600\;">&nbsp\;</span>Goodies to use throughout the thrift crawl and beyond.</li>\n	<li style="box-sizing: border-box\; padding: 0px 0px 12px\; margin: 4px 0px 0px\;"><span style="box-sizing: border-box\; padding: 0px\; margin: 0px\; font-weight: 600\;">Fun + games:</span><span style="box-sizing: border-box\; padding: 0px\; margin: 0px\; font-weight: 600\;">&nbsp\;</span>Trivia\, raffles + multiple chances to win prizes.</li>\n</ul>\n\n<p style="box-sizing: border-box\; padding: 0px 0px 12px\; margin: 12px 0px 0px\;">&nbsp\;</p>\n\n<h3 style="box-sizing: border-box\; padding: 0px\; margin: 12px 0px 0px\; font-weight: 600\; font-size: 20px\;"><span style="box-sizing: border-box\; padding: 0px\; margin: 0px\;">What to bring:</span></h3>\n\n<ul style="box-sizing: border-box\; padding: 0px 0px 0px 32px\; margin: 12px 0px 0px\;">\n	<li style="box-sizing: border-box\; padding: 0px 0px 12px\; margin: 0px\;">Your ID</li>\n	<li style="box-sizing: border-box\; padding: 0px 0px 12px\; margin: 4px 0px 0px\;">Reusable shopping bags if you have them</li>\n	<li style="box-sizing: border-box\; padding: 0px 0px 12px\; margin: 4px 0px 0px\;">A good attitude and a will to find the best thrift deals!</li>\n</ul>\n\n<h3 style="box-sizing: border-box\; padding: 0px\; margin: 12px 0px 0px\; font-weight: 600\; font-size: 20px\;"><span style="box-sizing: border-box\; padding: 0px\; margin: 0px\;">Here&#39\;s what your day will look like:</span></h3>\n\n<p style="box-sizing: border-box\; padding: 0px 0px 12px\; margin: 12px 0px 0px\;">GW Boutique Pawleys Island</p>\n\n<ul style="box-sizing: border-box\; padding: 0px 0px 0px 32px\; margin: 12px 0px 0px\;">\n	<li style="box-sizing: border-box\; padding: 0px 0px 12px\; margin: 0px\;">Check in\, receive your VIP pass\, gifts\, and enjoy a catered breakfast with mimosas.</li>\n	<li style="box-sizing: border-box\; padding: 0px 0px 12px\; margin: 4px 0px 0px\;">EARLY ACCESS to the boutique before the general public.</li>\n	<li style="box-sizing: border-box\; padding: 0px 0px 12px\; margin: 4px 0px 0px\;">Exclusive access to a curated pop-up experience with designer and luxury finds.</li>\n</ul>\n\n<p style="box-sizing: border-box\; padding: 0px 0px 12px\; margin: 12px 0px 0px\;"><em style="box-sizing: border-box\; padding: 0px\; margin: 0px\;">Private transportation to the second destination</em></p>\n\n<ul style="box-sizing: border-box\; padding: 0px 0px 0px 32px\; margin: 12px 0px 0px\;">\n	<li style="box-sizing: border-box\; padding: 0px 0px 12px\; margin: 0px\;"><em style="box-sizing: border-box\; padding: 0px\; margin: 0px\;">Enjoy music\, trivia\, games + prizes\, snacks and refreshments</em></li>\n</ul>\n\n<p style="box-sizing: border-box\; padding: 0px 0px 12px\; margin: 12px 0px 0px\;">Palmetto Goodwill Murrells Inlet</p>\n\n<ul style="box-sizing: border-box\; padding: 0px 0px 0px 32px\; margin: 12px 0px 0px\;">\n	<li style="box-sizing: border-box\; padding: 0px 0px 12px\; margin: 0px\;">1 hour of shopping</li>\n</ul>\n\n<p style="box-sizing: border-box\; padding: 0px 0px 12px\; margin: 12px 0px 0px\;"><em style="box-sizing: border-box\; padding: 0px\; margin: 0px\;">Private transportation to the third destination</em></p>\n\n<ul style="box-sizing: border-box\; padding: 0px 0px 0px 32px\; margin: 12px 0px 0px\;">\n	<li style="box-sizing: border-box\; padding: 0px 0px 12px\; margin: 0px\;"><em style="box-sizing: border-box\; padding: 0px\; margin: 0px\;">Enjoy music\, trivia\, games + prizes\, snacks and refreshments</em></li>\n</ul>\n\n<p style="box-sizing: border-box\; padding: 0px 0px 12px\; margin: 12px 0px 0px\;">Palmetto Goodwill Surfside</p>\n\n<ul style="box-sizing: border-box\; padding: 0px 0px 0px 32px\; margin: 12px 0px 0px\;">\n	<li style="box-sizing: border-box\; padding: 0px 0px 12px\; margin: 0px\;">1 hour of shopping</li>\n	<li style="box-sizing: border-box\; padding: 0px 0px 12px\; margin: 4px 0px 0px\;">Exclusive access to a curated pop-up experience</li>\n</ul>\n\n<p style="box-sizing: border-box\; padding: 0px 0px 12px\; margin: 12px 0px 0px\;"><em style="box-sizing: border-box\; padding: 0px\; margin: 0px\;">Private transportation to the fourth destination</em></p>\n\n<ul style="box-sizing: border-box\; padding: 0px 0px 0px 32px\; margin: 12px 0px 0px\;">\n	<li style="box-sizing: border-box\; padding: 0px 0px 12px\; margin: 0px\;"><em style="box-sizing: border-box\; padding: 0px\; margin: 0px\;">Enjoy music\, trivia\, games + prizes\, snacks and refreshments</em></li>\n</ul>\n\n<p style="box-sizing: border-box\; padding: 0px 0px 12px\; margin: 12px 0px 0px\;">Palmetto Goodwill Market Commons</p>\n\n<ul style="box-sizing: border-box\; padding: 0px 0px 0px 32px\; margin: 12px 0px 0px\;">\n	<li style="box-sizing: border-box\; padding: 0px 0px 12px\; margin: 0px\;">1 hour of shopping</li>\n</ul>\n\n<p style="box-sizing: border-box\; padding: 0px 0px 12px\; margin: 12px 0px 0px\;"><em style="box-sizing: border-box\; padding: 0px\; margin: 0px\;">Private transportation returning to the GW Boutique (Pawleys Island)</em></p>\n\n<p style="box-sizing: border-box\; padding: 0px 0px 12px\; margin: 12px 0px 0px\;">Catered lunch + shopping continues</p>\n\n<p style="box-sizing: border-box\; padding: 0px 0px 12px\; margin: 12px 0px 0px\;">&nbsp\;</p>\n\n<h3 style="box-sizing: border-box\; padding: 0px\; margin: 12px 0px 0px\; font-weight: 600\; font-size: 20px\;"><span style="box-sizing: border-box\; padding: 0px\; margin: 0px\;">Ticket Information</span></h3>\n\n<ul style="box-sizing: border-box\; padding: 0px 0px 0px 32px\; margin: 12px 0px 0px\;">\n	<li style="box-sizing: border-box\; padding: 0px 0px 12px\; margin: 0px\;"><span style="box-sizing: border-box\; padding: 0px\; margin: 0px\; font-weight: 600\;">General Admission&nbsp\;</span>- $75/person</li>\n</ul>\n\n<p style="box-sizing: border-box\; padding: 0px 0px 12px\; margin: 12px 0px 0px\;">&nbsp\;</p>\n\n<h3 style="box-sizing: border-box\; padding: 0px\; margin: 12px 0px 0px\; font-weight: 600\; font-size: 20px\;"><span style="box-sizing: border-box\; padding: 0px\; margin: 0px\;">Make an Impact:</span></h3>\n\n<p style="box-sizing: border-box\; padding: 0px 0px 12px\; margin: 12px 0px 0px\;">By joining the Thrift Crawl\, you&rsquo\;re supporting Palmetto Goodwill&rsquo\;s mission to provide training\, education\, and job opportunities. Every purchase and donation makes a difference in our community.</p>\n\n<p style="box-sizing: border-box\; padding: 0px 0px 12px\; margin: 12px 0px 0px\;">Reserve your spot today and get ready to thrift and shop for a cause! We can&rsquo\;t wait to see you there!</p>\n</div>\n</div>\n</div>\n
LOCATION:Grand Strand - Palmetto Goodwill Stores
UID:e.3251.4019
SEQUENCE:3
DTSTAMP:20260422T144103Z
URL:https://business.conwayscchamber.com/events/details/palmetto-goodwill-thrift-crawl-4019
END:VEVENT

END:VCALENDAR
