BEGIN:VCALENDAR
VERSION:2.0
PRODID:-//ChamberMaster//Event Calendar 2.0//EN
METHOD:PUBLISH
X-PUBLISHED-TTL:P3D
REFRESH-INTERVAL:P3D
CALSCALE:GREGORIAN
BEGIN:VEVENT
DTSTART:20230622T160000Z
DTEND:20230622T190000Z
X-MICROSOFT-CDO-ALLDAYEVENT:FALSE
SUMMARY:Palmetto Goodwill - Spherion Staffing Hiring Event
DESCRIPTION:?? Exciting Career Opportunity Event Alert! ?? Are you looking for a job? Don't miss the Palmetto Goodwill Career Opportunity Center event happening on Friday\, June 23\, 2023\, from 12 PM to 4 PM at 2164 Oakheart Rd\, Myrtle Beach\, SC 29579. ??? Spherion Staffing and Recruiting is now hiring for various full-time and part-time positions\, including cashiers\, linen closet attendants\, Costco kiosk attendants\, data entry specialists\, assemblers\, machine operators\, and warehouse associates. ?? What's even better? The wages range from $14 to $16 per hour! ?? But that's not all. Palmetto Goodwill is here to support you throughout the hiring process. If you need help creating or updating your resume\, or if you want to sharpen your interview skills\, they offer FREE resume assistance and interview preparation. ?? Mark your calendars and join us at the Hiring Event. This is an opportunity you won't want to miss! To stay updated\, visit the Palmetto Goodwill Events Page on Facebook. ?? For more information\, please contact Palmetto Goodwill at 843-790-9461. See you there! ??
X-ALT-DESC;FMTTYPE=text/html:?? Exciting Career Opportunity Event Alert! ?? Are you looking for a job? Don&#39\;t miss the Palmetto Goodwill Career Opportunity Center event happening on Friday\, June 23\, 2023\, from 12 PM to 4 PM at 2164 Oakheart Rd\, Myrtle Beach\, SC 29579. ??? Spherion Staffing and Recruiting is now hiring for various full-time and part-time positions\, including cashiers\, linen closet attendants\, Costco kiosk attendants\, data entry specialists\, assemblers\, machine operators\, and warehouse associates. ?? What&#39\;s even better? The wages range from $14 to $16 per hour! ?? But that&#39\;s not all. Palmetto Goodwill is here to support you throughout the hiring process. If you need help creating or updating your resume\, or if you want to sharpen your interview skills\, they offer FREE resume assistance and interview preparation. ?? Mark your calendars and join us at the Hiring Event. This is an opportunity you won&#39\;t want to miss! To stay updated\, visit the Palmetto Goodwill Events Page on Facebook. ?? For more information\, please contact Palmetto Goodwill at 843-790-9461. See you there! ??
LOCATION:Carolina Forest Career Opportunity Center 2164 Oakheart Rd Myrtle Beach\, SC 29579
UID:e.3251.1788
SEQUENCE:3
DTSTAMP:20260424T111037Z
URL:https://business.conwayscchamber.com/events/details/palmetto-goodwill-spherion-staffing-hiring-event-1788
END:VEVENT

END:VCALENDAR
