BEGIN:VCALENDAR
VERSION:2.0
PRODID:-//ChamberMaster//Event Calendar 2.0//EN
METHOD:PUBLISH
X-PUBLISHED-TTL:P3D
REFRESH-INTERVAL:P3D
CALSCALE:GREGORIAN
BEGIN:VEVENT
DTSTART:20230620T160000Z
DTEND:20230620T190000Z
X-MICROSOFT-CDO-ALLDAYEVENT:FALSE
SUMMARY:Palmetto Goodwill - Nightingale's Nursing Hiring Event
DESCRIPTION:It's time to unlock a new opportunity! Nightingale's Nursing is hosting a Hiring Event on Monday\, June 20th from 12pm - 3pm at the Carolina Forest Career Opportunity Center (2164 Oakheart Road\, Myrtle Beach\, SC). For more information or questions\, contact me at tchestnut@palmettogoodwill.org or call at 843-408-3118.
X-ALT-DESC;FMTTYPE=text/html:It&#39\;s time to unlock a new opportunity! Nightingale&#39\;s Nursing is hosting a Hiring Event on Monday\, June 20th from 12pm - 3pm at the Carolina Forest Career Opportunity Center (2164 Oakheart Road\, Myrtle Beach\, SC). For more information or questions\, contact me at tchestnut@palmettogoodwill.org or call at 843-408-3118.
LOCATION:Carolina Forest Career Opportunity Center
UID:e.3251.1787
SEQUENCE:3
DTSTAMP:20260424T110947Z
URL:https://business.conwayscchamber.com/events/details/palmetto-goodwill-nightingale-s-nursing-hiring-event-1787
END:VEVENT

END:VCALENDAR
