BEGIN:VCALENDAR
VERSION:2.0
PRODID:-//ChamberMaster//Event Calendar 2.0//EN
METHOD:PUBLISH
X-PUBLISHED-TTL:P3D
REFRESH-INTERVAL:P3D
CALSCALE:GREGORIAN
BEGIN:VEVENT
DTSTART:20251210T180000Z
DTEND:20251210T190000Z
X-MICROSOFT-CDO-ALLDAYEVENT:FALSE
SUMMARY:Myrtle Beach Memories
DESCRIPTION:The 2025 Horry County Museum Documentary Film Series continues with Myrtle Beach Memories. This ETV film is a nostalgic look at the history of Myrtle Beach from 1900-1965. Told through interviews with local historians and business people\, this film features topics ranging from the Ocean Forest Hotel\, Hurricane Hazel\, the Myrtle Beach Pavilion\, and the Sun Fun Festival to motor inns\, guest houses and beach music. The film is free to the public and will be shown at 1:00 PM\, Wednesday\, December 10th\, at the Horry County Museum\, located at 805 Main Street in Conway. The Horry County Museum Documentary Film Matinees will continue throughout 2025. For a list of films\, visit our website at www.horrycountymuseum.org. For more information\, call the Horry County Museum at 843-915-5320 or e-mail hcg.museum@horrycountysc.gov.
X-ALT-DESC;FMTTYPE=text/html:The 2025 Horry County Museum Documentary Film Series continues with Myrtle Beach Memories. This ETV film is a nostalgic look at the history of Myrtle Beach from 1900-1965. Told through interviews with local historians and business people\, this film features topics ranging from the Ocean Forest Hotel\, Hurricane Hazel\, the Myrtle Beach Pavilion\, and the Sun Fun Festival to motor inns\, guest houses and beach music. The film is free to the public and will be shown at 1:00 PM\, Wednesday\, December 10th\, at the Horry County Museum\, located at 805 Main Street in Conway. The Horry County Museum Documentary Film Matinees will continue throughout 2025. For a list of films\, visit our website at www.horrycountymuseum.org. For more information\, call the Horry County Museum at 843-915-5320 or e-mail hcg.museum@horrycountysc.gov.
LOCATION:Horry County Museum\, 805 Main Street Conway SC 29526.
UID:e.3251.3563
SEQUENCE:3
DTSTAMP:20260422T194552Z
URL:https://business.conwayscchamber.com/events/details/myrtle-beach-memories-12-10-2025-3563
END:VEVENT

END:VCALENDAR
