BEGIN:VCALENDAR
VERSION:2.0
PRODID:-//ChamberMaster//Event Calendar 2.0//EN
METHOD:PUBLISH
X-PUBLISHED-TTL:P3D
REFRESH-INTERVAL:P3D
CALSCALE:GREGORIAN
BEGIN:VEVENT
DTSTART:20241223T160000Z
DTEND:20241223T190000Z
X-MICROSOFT-CDO-ALLDAYEVENT:FALSE
SUMMARY:Myrtle Beach Bowl Game
DESCRIPTION:The 5th Myrtle Beach Bowl Game will be held on Monday\, Dec. 23 at 11 a.m. at Brooks Stadium - home of the Coastal Carolina University Chanticleers!
X-ALT-DESC;FMTTYPE=text/html:The 5th Myrtle Beach Bowl Game will be held on Monday\, Dec. 23 at 11 a.m. at Brooks Stadium - home of the Coastal Carolina University Chanticleers!
LOCATION:
UID:e.3251.3207
SEQUENCE:3
DTSTAMP:20260423T152652Z
URL:https://business.conwayscchamber.com/events/details/myrtle-beach-bowl-game-3207
END:VEVENT

END:VCALENDAR
