BEGIN:VCALENDAR
VERSION:2.0
PRODID:-//ChamberMaster//Event Calendar 2.0//EN
METHOD:PUBLISH
X-PUBLISHED-TTL:P3D
REFRESH-INTERVAL:P3D
CALSCALE:GREGORIAN
BEGIN:VEVENT
DTSTART:20260514T200000Z
DTEND:20260514T230000Z
X-MICROSOFT-CDO-ALLDAYEVENT:FALSE
SUMMARY:Member-to-Member Business Expo
DESCRIPTION:Presented by OrthoSC\, join us for our first Conway Chamber of Commerce Member-to-Member Business Expo. This exciting new event brings Chamber members together for an evening of networking\, connection\, and collaboration. Meet fellow local professionals\, discover the products and services our members offer\, and build meaningful relationships that support business growth. Whether you're looking to showcase your business or make valuable new connections\, this expo is the place to be.\nThis is your opportunity to promote your business\, build relationships with fellow Chamber members\, and expand your network within the local business community. You'll gain valuable exposure\, discover new partnerships\, and strengthen connections that support long-term growth.\n\n\n\n**Registering on this page is your registration to attend\, not to exhibit. To be an exhibitor at this event\, contact Kaylee Alston at kalston@conwayscchamber.com directly.**\n\n\n\nPlease note by registering\, you agree to receive event-related communications and understand that your contact information may be used for marketing purposes.
X-ALT-DESC;FMTTYPE=text/html:<span style="color:#000000\;">Presented by OrthoSC\, join us for our first Conway Chamber of Commerce Member-to-Member Business Expo. This exciting new event brings Chamber members together for an evening of networking\, connection\, and collaboration. Meet fellow local professionals\, discover the products and services our members offer\, and build meaningful relationships that support business growth. Whether you&rsquo\;re looking to showcase your business or make valuable new connections\, this expo is the place to be.</span>\n<p class="has-text-color has-link-color" style="color:#000000">This is your opportunity to promote your business\, build relationships with fellow Chamber members\, and expand your network within the local business community. You&rsquo\;ll gain valuable exposure\, discover new partnerships\, and strengthen connections that support long-term growth.<br />\n<br />\n<strong>**Registering on this page is your registration to attend\, not to exhibit. To be an exhibitor at this event\, contact Kaylee Alston at kalston@conwayscchamber.com directly.**</strong><br />\n<br />\n<span style="color:#A9A9A9\;">Please note by&nbsp\;registering\, you agree to receive event-related communications and understand that your contact information may be used for marketing purposes.</span></p>\n
LOCATION:
UID:e.3251.3599
SEQUENCE:3
DTSTAMP:20260422T162250Z
URL:https://business.conwayscchamber.com/events/details/member-to-member-business-expo-3599
END:VEVENT

END:VCALENDAR
