BEGIN:VCALENDAR
VERSION:2.0
PRODID:-//ChamberMaster//Event Calendar 2.0//EN
METHOD:PUBLISH
X-PUBLISHED-TTL:P3D
REFRESH-INTERVAL:P3D
CALSCALE:GREGORIAN
BEGIN:VEVENT
DTSTART:20251018T140000Z
DTEND:20251018T220000Z
X-MICROSOFT-CDO-ALLDAYEVENT:FALSE
SUMMARY:Magical World of Santa
DESCRIPTION:? Magical World of Santa ?\n\n?? October 18 & November 22\, 2025\n\n?? Sapphire & Silver Portrait Design   Conway\, SC Studio\n\nBONUS With any purchase receive 25 custom Christmas cards from your session!\n\nStep into the enchanting world of Santa Claus like never before! This isn't your typical mall photo   it's a fully designed magical experience where your child's imagination comes alive.\n\n?? Meet Santa in a beautifully crafted holiday set\n\n?? Professional portraits to treasure for a lifetime\n\n?? Perfect for Christmas cards and family keepsakes\n\n?? Limited spots available for each date!\n\nReserve your family's magical session today before they're gone.\n\n?? Call/Text: 843-484-5527\n\n?? Book Online: event.sapphiresilverportraitdesign.com/home-page-973556\n\nStudio Location\n\n1312 2nd Avenue Unit D\n\nConway\, SC 29526
X-ALT-DESC;FMTTYPE=text/html:<strong><span style="font-family:segoe ui emoji\,sans-serif"><span style="font-size:13.5pt">?</span></span></strong><strong><span style="font-family:times new roman\,serif"><span style="font-size:13.5pt"> Magical World of Santa </span></span></strong><strong><span style="font-family:segoe ui emoji\,sans-serif"><span style="font-size:13.5pt">?</span></span></strong><br />\n<span style="font-family:segoe ui emoji\,sans-serif">??</span><span style="font-family:times new roman\,serif"> <strong>October 18 &amp\; November 22\, 2025</strong></span><br />\n<span style="font-family:segoe ui emoji\,sans-serif">??</span><span style="font-family:times new roman\,serif"> <strong>Sapphire &amp\; Silver Portrait Design &ndash\; Conway\, SC Studio</strong></span><br />\n<strong><span style="font-family:times new roman\,serif">BONUS With any purchase receive 25 custom Christmas cards from your session!</span></strong><br />\n<span style="font-family:times new roman\,serif">Step into the <strong>enchanting world of Santa Claus</strong> like never before! This isn&rsquo\;t your typical mall photo &mdash\; it&rsquo\;s a <strong>fully designed magical experience</strong> where your child&rsquo\;s imagination comes alive.</span><br />\n<span style="font-family:segoe ui emoji\,sans-serif">??</span><span style="font-family:times new roman\,serif"> Meet Santa in a beautifully crafted holiday set</span><br />\n<span style="font-family:segoe ui emoji\,sans-serif">??</span><span style="font-family:times new roman\,serif"> Professional portraits to treasure for a lifetime</span><br />\n<span style="font-family:segoe ui emoji\,sans-serif">??</span><span style="font-family:times new roman\,serif"> Perfect for Christmas cards and family keepsakes</span><br />\n<span style="font-family:segoe ui emoji\,sans-serif">??</span><span style="font-family:times new roman\,serif"> <strong>Limited spots available for each date!</strong><br />\nReserve your family&rsquo\;s magical session today before they&rsquo\;re gone.</span><br />\n<span style="font-family:segoe ui emoji\,sans-serif">??</span><span style="font-family:times new roman\,serif"> Call/Text: <strong>843-484-5527</strong></span><br />\n<span style="font-family:segoe ui emoji\,sans-serif">??</span><span style="font-family:times new roman\,serif"> Book Online: </span><a href="https://event.sapphiresilverportraitdesign.com/home-page-973556">event.sapphiresilverportraitdesign.com/home-page-973556</a><br />\nStudio Location<br />\n1312 2<sup>nd</sup> Avenue Unit D<br />\nConway\, SC 29526
LOCATION:Sapphire & Silver Portrait Design 1312 2nd Avenue Unit D. Conway\, SC. 29526
UID:e.3251.3508
SEQUENCE:3
DTSTAMP:20260422T224607Z
URL:https://business.conwayscchamber.com/events/details/magical-world-of-santa-3508
END:VEVENT

END:VCALENDAR
