BEGIN:VCALENDAR
VERSION:2.0
PRODID:-//ChamberMaster//Event Calendar 2.0//EN
METHOD:PUBLISH
X-PUBLISHED-TTL:P3D
REFRESH-INTERVAL:P3D
CALSCALE:GREGORIAN
BEGIN:VEVENT
DTSTART:20260318T150000Z
DTEND:20260318T160000Z
X-MICROSOFT-CDO-ALLDAYEVENT:FALSE
SUMMARY:Louise Roebuck: Land That I Love Quilts
DESCRIPTION:We're celebrating textiles all month at the Horry County Museum. Stop by to hear from local quilters on a variety of topics. In addition to the free programming\, you'll have a chance to win a door prize at every event! Join us for a program by Louise Roebuck on Wednesday\, March 18th at 11 AM. Join us as we "travel" across our country and National Parks with handmade landscape quilts. The program will be held at the Horry County Museum\, located at 805 Main Street\, Conway SC. This event is free and open to the public. For more information\, call 843-915-5320 or email hcg.museum@horrycountysc.gov. To view a full list of programs\, visit our website at www.horrycountymuseum.org.
X-ALT-DESC;FMTTYPE=text/html:We&rsquo\;re celebrating textiles all month at the Horry County Museum. Stop by to hear from local quilters on a variety of topics. In addition to the free programming\, you&rsquo\;ll have a chance to win a door prize at every event! Join us for a program by Louise Roebuck on Wednesday\, March 18th at 11 AM. Join us as we &ldquo\;travel&rdquo\; across our country and National Parks with handmade landscape quilts. The program will be held at the Horry County Museum\, located at 805 Main Street\, Conway SC. This event is free and open to the public. For more information\, call 843-915-5320 or email hcg.museum@horrycountysc.gov. To view a full list of programs\, visit our website at www.horrycountymuseum.org.
LOCATION:The Horry County Museum
UID:e.3251.3968
SEQUENCE:3
DTSTAMP:20260422T164238Z
URL:https://business.conwayscchamber.com/events/details/louise-roebuck-land-that-i-love-quilts-3968
END:VEVENT

END:VCALENDAR
