BEGIN:VCALENDAR
VERSION:2.0
PRODID:-//ChamberMaster//Event Calendar 2.0//EN
METHOD:PUBLISH
X-PUBLISHED-TTL:P3D
REFRESH-INTERVAL:P3D
CALSCALE:GREGORIAN
BEGIN:VEVENT
DTSTART:20251120T203000Z
DTEND:20251120T230000Z
X-MICROSOFT-CDO-ALLDAYEVENT:FALSE
SUMMARY:King's Gift Baskets Holiday Open House & 10 Year Celebration
DESCRIPTION:Cheers to 10 years! Celebrate with us\, our 10 year anniversary and Christmas Open House! Let us help you or your secret Santa!\n\nShop early for all your gifting needs!
X-ALT-DESC;FMTTYPE=text/html:Cheers to 10 years! Celebrate with us\, our 10 year anniversary and Christmas Open House! Let us help you or your secret Santa!<br />\nShop early for all your gifting needs!<br />\n&nbsp\;
LOCATION:
UID:e.3251.3577
SEQUENCE:3
DTSTAMP:20260422T210542Z
URL:https://business.conwayscchamber.com/events/details/king-s-gift-baskets-holiday-open-house-10-year-celebration-3577
END:VEVENT

END:VCALENDAR
