BEGIN:VCALENDAR
VERSION:2.0
PRODID:-//ChamberMaster//Event Calendar 2.0//EN
METHOD:PUBLISH
X-PUBLISHED-TTL:P3D
REFRESH-INTERVAL:P3D
CALSCALE:GREGORIAN
BEGIN:VEVENT
DTSTART:20260320T150000Z
DTEND:20260320T150000Z
X-MICROSOFT-CDO-ALLDAYEVENT:FALSE
SUMMARY:Kathleen Armel: My First Quilt
DESCRIPTION:We're celebrating textiles all month at the Horry County Museum. Join us for a program by Kathleen Armel on Friday\, March 20th at 11 AM. Kathleen and others will show off and share stories behind a collection of the first quilts that they made. The program will be held at the Horry County Museum\, located at 805 Main Street\, Conway SC. This event is free and open to the public. For more information\, call 843-915-5320 or email hcg.museum@horrycountysc.gov. To view a full list of programs\, visit our website at www.horrycountymuseum.org.
X-ALT-DESC;FMTTYPE=text/html:We&rsquo\;re celebrating textiles all month at the Horry County Museum. Join us for a program by Kathleen Armel on Friday\, March 20th at 11 AM. Kathleen and others will show off and share stories behind a collection of the first quilts that they made. The program will be held at the Horry County Museum\, located at 805 Main Street\, Conway SC. This event is free and open to the public. For more information\, call 843-915-5320 or email hcg.museum@horrycountysc.gov. To view a full list of programs\, visit our website at www.horrycountymuseum.org.
LOCATION:The Horry County Museum
UID:e.3251.3960
SEQUENCE:3
DTSTAMP:20260422T150211Z
URL:https://business.conwayscchamber.com/events/details/kathleen-armel-my-first-quilt-3960
END:VEVENT

END:VCALENDAR
