BEGIN:VCALENDAR
VERSION:2.0
PRODID:-//ChamberMaster//Event Calendar 2.0//EN
METHOD:PUBLISH
X-PUBLISHED-TTL:P3D
REFRESH-INTERVAL:P3D
CALSCALE:GREGORIAN
BEGIN:VEVENT
DTSTART:20260318T180000Z
DTEND:20260318T190000Z
X-MICROSOFT-CDO-ALLDAYEVENT:FALSE
SUMMARY:Intermediate Crochet Workshop at the Horry County Museum
DESCRIPTION:The Horry County Museum will host a free intermediate crochet workshop\, at 2 PM on Wednesday\, March 18th. Participants will make a chicken coaster to take home. Please note\, as this is an intermediate class\, all participants are expected to come with the knowledge of how to do the following (US) stitches: Chain\, Slip Stitch\, Single Crochet\, and Double Crochet. Space is limited\, pre-registration is required. To sign up\, contact Abigail Geedy at 843-915-7864 or email geedy.abigail@horrycountysc.gov. The Horry County Museum is located at 805 Main Street\, Conway\, SC 29526. For more information about programming at the Museum\, visit our website at www.horrycountymuseum.org.
X-ALT-DESC;FMTTYPE=text/html:The Horry County Museum will host a free intermediate crochet workshop\, at 2 PM on Wednesday\, March 18th. Participants will make a chicken coaster to take home. Please note\, as this is an intermediate class\, all participants are expected to come with the knowledge of how to do the following (US) stitches: Chain\, Slip Stitch\, Single Crochet\, and Double Crochet. Space is limited\, pre-registration is required. To sign up\, contact Abigail Geedy at 843-915-7864 or email geedy.abigail@horrycountysc.gov. The Horry County Museum is located at 805 Main Street\, Conway\, SC 29526. For more information about programming at the Museum\, visit our website at www.horrycountymuseum.org.
LOCATION:Horry County Museum
UID:e.3251.3958
SEQUENCE:3
DTSTAMP:20260422T150237Z
URL:https://business.conwayscchamber.com/events/details/intermediate-crochet-workshop-at-the-horry-county-museum-3958
END:VEVENT

END:VCALENDAR
