BEGIN:VCALENDAR
VERSION:2.0
PRODID:-//ChamberMaster//Event Calendar 2.0//EN
METHOD:PUBLISH
X-PUBLISHED-TTL:P3D
REFRESH-INTERVAL:P3D
CALSCALE:GREGORIAN
BEGIN:VEVENT
DTSTART:20250307T190000Z
DTEND:20250307T200000Z
X-MICROSOFT-CDO-ALLDAYEVENT:FALSE
SUMMARY:Indigo dyeing workshop at the L.W. Paul Living History Farm
DESCRIPTION:The L.W. Paul Living History Farm will host two free hands-on workshops on indigo dyeing. Workshops will take place on March 7th and March 21st at 2 PM. Participants will learn about the history of indigo in South Carolina and have the opportunity to design and dye their own handkerchief. Space is limited\, pre-registration is required. To sign up\, contact Marian Calder at 843-915-7861 or email calder.marian@horrycountysc.gov. A workshop geared towards children will be available Saturday\, March 8th at the Farm. Available sessions are 9\, 9:30\, 10 or 10:30\, please specify which session you would like for your child upon registering. The L.W. Paul Living History Farm is located at 2279 Harris Short Cut Road\, Conway\, SC 29526. For more information about the Farm\, the Horry County Museum\, or programming at both sites\, visit our website at www.horrycountymuseum.org.
X-ALT-DESC;FMTTYPE=text/html:The L.W. Paul Living History Farm will host two free hands-on workshops on indigo dyeing. Workshops will take place on March 7th and March 21st at 2 PM. Participants will learn about the history of indigo in South Carolina and have the opportunity to design and dye their own handkerchief. Space is limited\, pre-registration is required. To sign up\, contact Marian Calder at 843-915-7861 or email calder.marian@horrycountysc.gov. A workshop geared towards children will be available Saturday\, March 8th at the Farm. Available sessions are 9\, 9:30\, 10 or 10:30\, please specify which session you would like for your child upon registering. The L.W. Paul Living History Farm is located at 2279 Harris Short Cut Road\, Conway\, SC 29526. For more information about the Farm\, the Horry County Museum\, or programming at both sites\, visit our website at www.horrycountymuseum.org.
LOCATION:L.W. Living History Farm
UID:e.3251.3305
SEQUENCE:3
DTSTAMP:20260423T105736Z
URL:https://business.conwayscchamber.com/events/details/indigo-dyeing-workshop-at-the-l-w-paul-living-history-farm-3305
END:VEVENT

END:VCALENDAR
