BEGIN:VCALENDAR
VERSION:2.0
PRODID:-//ChamberMaster//Event Calendar 2.0//EN
METHOD:PUBLISH
X-PUBLISHED-TTL:P3D
REFRESH-INTERVAL:P3D
CALSCALE:GREGORIAN
BEGIN:VEVENT
DTSTART:20250712T130000Z
DTEND:20250712T180000Z
X-MICROSOFT-CDO-ALLDAYEVENT:FALSE
SUMMARY:“Horry County Museum Fossil and Shell Show July 12\, 2025”
DESCRIPTION:The Horry County Museum presents a free\, family friendly\, event to learn about the variety of fossils and shells that can be found throughout South Carolina! Join us from 9 AM to 4 PM on Saturday\, July 12\, 2025 for a variety of exhibitors\, presentations\, and hands on activities. Presentations will be given by Jim Knight\, retired Natural History Curator of the South Carolina State Museum\, and Frank Morning\, Mid-State Geological Research Team. Exhibitors include: Burnt & Sandy Boat Charters\, EdVenture Children's Museum Myrtle Beach\, Grand Strand Shell Club\, Jared Shuler\, Mid-State Geological Research Team\, Myrtle Beach & Huntington Beach State Parks\, Myrtle Beach Shark Tooth Adventures\, North Myrtle Beach Area Historical Museum\, Palmetto Fossils\, Ripley's Aquarium\, and the Mace Brown Museum of Natural History. This event will be held at the Horry County Museum located at 805 Main Street\, Conway\, S.C. This event is free and open to the public. For more information\, call 843-915-5320 or email hcg.museum@horrycountysc.gov. For more information about our programs\, visit the museum website at www.horrycountymuseum.org.
X-ALT-DESC;FMTTYPE=text/html:The Horry County Museum presents a free\, family friendly\, event to learn about the variety of fossils and shells that can be found throughout South Carolina! Join us from 9 AM to 4 PM on Saturday\, July 12\, 2025 for a variety of exhibitors\, presentations\, and hands on activities. Presentations will be given by Jim Knight\, retired Natural History Curator of the South Carolina State Museum\, and Frank Morning\, Mid-State Geological Research Team. Exhibitors include: Burnt &amp\; Sandy Boat Charters\, EdVenture Children&rsquo\;s Museum Myrtle Beach\, Grand Strand Shell Club\, Jared Shuler\, Mid-State Geological Research Team\, Myrtle Beach &amp\; Huntington Beach State Parks\, Myrtle Beach Shark Tooth Adventures\, North Myrtle Beach Area Historical Museum\, Palmetto Fossils\, Ripley&rsquo\;s Aquarium\, and the Mace Brown Museum of Natural History. This event will be held at the Horry County Museum located at 805 Main Street\, Conway\, S.C. This event is free and open to the public. For more information\, call 843-915-5320 or email hcg.museum@horrycountysc.gov. For more information about our programs\, visit the museum website at www.horrycountymuseum.org.
LOCATION:The Horry County Museum
UID:e.3251.3406
SEQUENCE:3
DTSTAMP:20260423T043526Z
URL:https://business.conwayscchamber.com/events/details/horry-county-museum-fossil-and-shell-show-july-12-2025-3406
END:VEVENT

END:VCALENDAR
