BEGIN:VCALENDAR
VERSION:2.0
PRODID:-//ChamberMaster//Event Calendar 2.0//EN
METHOD:PUBLISH
X-PUBLISHED-TTL:P3D
REFRESH-INTERVAL:P3D
CALSCALE:GREGORIAN
BEGIN:VEVENT
DTSTART:20251129T150000Z
DTEND:20251129T200000Z
X-MICROSOFT-CDO-ALLDAYEVENT:FALSE
SUMMARY:Holiday Open House
DESCRIPTION:Join us for our holiday\, open house and to celebrate small business Saturday. We will have vendors set up outside of our store along with raffles\, giveaways\, and light refreshments inside the store.
X-ALT-DESC;FMTTYPE=text/html:Join us for our holiday\, open house and to celebrate small business Saturday. We will have vendors set up outside of our store along with raffles\, giveaways\, and light refreshments inside the store.
LOCATION:LW Marketplace 3133 Church St Conway\, SC
UID:e.3251.3581
SEQUENCE:3
DTSTAMP:20260422T224520Z
URL:https://business.conwayscchamber.com/events/details/holiday-open-house-11-29-2025-3581
END:VEVENT

END:VCALENDAR
