BEGIN:VCALENDAR
VERSION:2.0
PRODID:-//ChamberMaster//Event Calendar 2.0//EN
METHOD:PUBLISH
X-PUBLISHED-TTL:P3D
REFRESH-INTERVAL:P3D
CALSCALE:GREGORIAN
BEGIN:VEVENT
DTSTART:20251009T170000Z
DTEND:20251009T190000Z
X-MICROSOFT-CDO-ALLDAYEVENT:FALSE
SUMMARY:Grand Opening & Ribbon Cutting - Cottages at Ridgefield
DESCRIPTION:We're officially opening the doors to Conway's coziest new address\, and you're invited! Join us for a ribbon cutting\, with food trucks\, live music\, special guests and fun as we celebrate the grand opening of Cottages at Ridgefield!
X-ALT-DESC;FMTTYPE=text/html:We&rsquo\;re officially opening the doors to Conway&rsquo\;s coziest new address\, and you&rsquo\;re invited! Join us for a ribbon cutting\, with food trucks\, live music\, special guests and fun as we celebrate the grand opening of Cottages at Ridgefield!
LOCATION:270 Wild Palm Way Conway\, SC 29526
UID:e.3251.3512
SEQUENCE:3
DTSTAMP:20260422T224838Z
URL:https://business.conwayscchamber.com/events/details/grand-opening-ribbon-cutting-cottages-at-ridgefield-3512
END:VEVENT

END:VCALENDAR
