BEGIN:VCALENDAR
VERSION:2.0
PRODID:-//ChamberMaster//Event Calendar 2.0//EN
METHOD:PUBLISH
X-PUBLISHED-TTL:P3D
REFRESH-INTERVAL:P3D
CALSCALE:GREGORIAN
BEGIN:VEVENT
DTSTART:20251009T200000Z
DTEND:20251009T210000Z
X-MICROSOFT-CDO-ALLDAYEVENT:FALSE
SUMMARY:Grand Opening & Ribbon-Cutting Ceremony - OrthoSC
DESCRIPTION:We're thrilled to invite you to celebrate the official grand opening of our brand-new Conway office!\n\n			 \n\n			Come join the OrthoSC team\, community leaders\, and fellow providers for:\n			\n		\n	\n\n\n\n	\n		\n			\n			\n				The official ribbon-cutting ceremony\n				Guided tours of our new facility\n				Meet and greet with our doctors and staff\n			\n\n			 \n\n			Our New Conway Address\n\n			103 Professional Park Drive\n\n			Conway\, SC 29526\n			\n		\n	\n\n\n\n	\n		\n			\n			This event marks an exciting new chapter for OrthoSC\, and we can't wait to share it with you and your patients!
X-ALT-DESC;FMTTYPE=text/html:<table border="0" cellpadding="0" cellspacing="0" style="color: rgb(34\, 34\, 34)\; font-family: Arial\, Helvetica\, sans-serif\; font-size: small\; table-layout: fixed\;" width="100%">\n	<tbody>\n		<tr>\n			<td align="left" style="margin: 0px\; font-family: Arial\, Verdana\, Helvetica\, sans-serif\; color: rgb(62\, 62\, 62)\; font-size: 16px\; line-height: 1.2\; display: block\; overflow-wrap: break-word\; padding: 10px 40px\;" valign="top">\n			<p style="margin: 0px\;">We&rsquo\;re thrilled to invite you to celebrate the official grand opening of our brand-new Conway office!</p>\n\n			<p style="margin: 0px\;">&nbsp\;</p>\n\n			<p style="margin: 0px\;">Come join the&nbsp\;<a data-saferedirecturl="https://www.google.com/url?q=https://linkprotect.cudasvc.com/url?a%3Dhttps%253a%252f%252fjsarrwhbb.cc.rs6.net%252ftn.jsp%253ff%253d001GLR-TMU5I29TKYPAqxSp3JAeKU-JpYApQDFanX4KtjZB52_ABLymCm_xCHI1egTOxLuNRTyBdxD6-mqxUY3HZmCYzb7pJtr4nlcfbNUX6NaJyudPfJ3QjkKwu0tCkrkUwUBCi9Enf2lPDoTW0FsB6-_GRNa8j9aT%2526c%253dd18t5EMOxyfes1ctPWfF1n12RpU6nAVB3dyxldRTQkOfTFhxlGZ5dQ%253d%253d%2526ch%253dNplnCD4oO8au8MCi8piLkjWTZ2KcmxzMa2-RZBRYmTufMXvGhaFcPw%253d%253d%26c%3DE\,1\,8mL051cSgCLzdjLG3SDmrUKWRMbvTyA74waQcF7JinueGq4fAYBCAq0ejVGMNTsgZQV6xpiOaJSaAQ4fMSQcyR7aWdu18UPEVH0bewJI%26typo%3D1&amp\;source=gmail&amp\;ust=1758731401911000&amp\;usg=AOvVaw1vvk5T1AUq_9yUF2Cnso5X" href="https://linkprotect.cudasvc.com/url?a=https%3a%2f%2fjsarrwhbb.cc.rs6.net%2ftn.jsp%3ff%3d001GLR-TMU5I29TKYPAqxSp3JAeKU-JpYApQDFanX4KtjZB52_ABLymCm_xCHI1egTOxLuNRTyBdxD6-mqxUY3HZmCYzb7pJtr4nlcfbNUX6NaJyudPfJ3QjkKwu0tCkrkUwUBCi9Enf2lPDoTW0FsB6-_GRNa8j9aT%26c%3dd18t5EMOxyfes1ctPWfF1n12RpU6nAVB3dyxldRTQkOfTFhxlGZ5dQ%3d%3d%26ch%3dNplnCD4oO8au8MCi8piLkjWTZ2KcmxzMa2-RZBRYmTufMXvGhaFcPw%3d%3d&amp\;c=E\,1\,8mL051cSgCLzdjLG3SDmrUKWRMbvTyA74waQcF7JinueGq4fAYBCAq0ejVGMNTsgZQV6xpiOaJSaAQ4fMSQcyR7aWdu18UPEVH0bewJI&amp\;typo=1" rel="noopener noreferrer" style="color: rgb(0\, 86\, 130)\; font-weight: bold\; text-decoration-line: none\;" target="_blank">OrthoSC</a>&nbsp\;team\, community leaders\, and fellow providers for:</p>\n			</td>\n		</tr>\n	</tbody>\n</table>\n\n<table border="0" cellpadding="0" cellspacing="0" style="color: rgb(34\, 34\, 34)\; font-family: Arial\, Helvetica\, sans-serif\; font-size: small\; table-layout: fixed\;" width="100%">\n	<tbody>\n		<tr>\n			<td align="left" style="margin: 0px\; font-family: Arial\, Verdana\, Helvetica\, sans-serif\; color: rgb(62\, 62\, 62)\; font-size: 16px\; line-height: 1.2\; display: block\; overflow-wrap: break-word\; padding: 10px 40px\;" valign="top">\n			<ul style="margin-top: 0px\; margin-bottom: 0px\;">\n				<li style="margin-left: 15px\;">The official ribbon-cutting ceremony</li>\n				<li style="margin-left: 15px\;">Guided tours of our new facility</li>\n				<li style="margin-left: 15px\;">Meet and greet with our doctors and staff</li>\n			</ul>\n\n			<p style="margin: 0px\;">&nbsp\;</p>\n\n			<p align="center" style="margin: 0px\; text-align: center\;"><a data-saferedirecturl="https://www.google.com/url?q=https://linkprotect.cudasvc.com/url?a%3Dhttps%253a%252f%252fjsarrwhbb.cc.rs6.net%252ftn.jsp%253ff%253d001GLR-TMU5I29TKYPAqxSp3JAeKU-JpYApQDFanX4KtjZB52_ABLymCilK0jrl99gpfMOSlRYxGWI9--BYk1lT83sKIsm19M3KZoQiYIGM5XT4rIWqkM2AP181ZfXOPsQmiHCsKuR70JTEewaDUzwdTdrWDkoaqxum05B0FmxiV-UH8NScKwudoCp7M3lXUgk1wZAMZmZpFaOgjCV5pGyVMA%253d%253d%2526c%253dd18t5EMOxyfes1ctPWfF1n12RpU6nAVB3dyxldRTQkOfTFhxlGZ5dQ%253d%253d%2526ch%253dNplnCD4oO8au8MCi8piLkjWTZ2KcmxzMa2-RZBRYmTufMXvGhaFcPw%253d%253d%26c%3DE\,1\,SuZoork7d1rA6s542bVUcOi4FDa64awZFKLwTMS6mzuwZcIJCtL2IBTuvkEEZnf_0_IEwQp7VJfKJGGYesPji4Et-MjxKVFZ3qx2tgi89WzIYE8\,%26typo%3D1&amp\;source=gmail&amp\;ust=1758731401911000&amp\;usg=AOvVaw1zk_yr7cIynR-jFmLBw7hn" href="https://linkprotect.cudasvc.com/url?a=https%3a%2f%2fjsarrwhbb.cc.rs6.net%2ftn.jsp%3ff%3d001GLR-TMU5I29TKYPAqxSp3JAeKU-JpYApQDFanX4KtjZB52_ABLymCilK0jrl99gpfMOSlRYxGWI9--BYk1lT83sKIsm19M3KZoQiYIGM5XT4rIWqkM2AP181ZfXOPsQmiHCsKuR70JTEewaDUzwdTdrWDkoaqxum05B0FmxiV-UH8NScKwudoCp7M3lXUgk1wZAMZmZpFaOgjCV5pGyVMA%3d%3d%26c%3dd18t5EMOxyfes1ctPWfF1n12RpU6nAVB3dyxldRTQkOfTFhxlGZ5dQ%3d%3d%26ch%3dNplnCD4oO8au8MCi8piLkjWTZ2KcmxzMa2-RZBRYmTufMXvGhaFcPw%3d%3d&amp\;c=E\,1\,SuZoork7d1rA6s542bVUcOi4FDa64awZFKLwTMS6mzuwZcIJCtL2IBTuvkEEZnf_0_IEwQp7VJfKJGGYesPji4Et-MjxKVFZ3qx2tgi89WzIYE8\,&amp\;typo=1" rel="noopener noreferrer" style="color: rgb(0\, 86\, 130)\; font-weight: bold\; background-color: rgb(254\, 254\, 254)\; text-decoration-line: none\;" target="_blank">Our New Conway Address</a></p>\n\n			<p align="center" style="margin: 0px\; text-align: center\;">103 Professional Park Drive</p>\n\n			<p align="center" style="margin: 0px\; text-align: center\;">Conway\, SC 29526</p>\n			</td>\n		</tr>\n	</tbody>\n</table>\n\n<table border="0" cellpadding="0" cellspacing="0" style="color: rgb(34\, 34\, 34)\; font-family: Arial\, Helvetica\, sans-serif\; font-size: small\; table-layout: fixed\;" width="100%">\n	<tbody>\n		<tr>\n			<td align="left" style="margin: 0px\; font-family: Arial\, Verdana\, Helvetica\, sans-serif\; color: rgb(62\, 62\, 62)\; font-size: 16px\; line-height: 1.2\; display: block\; overflow-wrap: break-word\; padding: 10px 40px\;" valign="top">\n			<p style="margin: 0px\;">This event marks an exciting new chapter for OrthoSC\, and we can&rsquo\;t wait to share it with you and your patients!</p>\n			</td>\n		</tr>\n	</tbody>\n</table>\n
LOCATION:103 Professional Park Drive Conway SC 29526
UID:e.3251.3511
SEQUENCE:3
DTSTAMP:20260422T224638Z
URL:https://business.conwayscchamber.com/events/details/grand-opening-ribbon-cutting-ceremony-orthosc-3511
END:VEVENT

END:VCALENDAR
