BEGIN:VCALENDAR
VERSION:2.0
PRODID:-//ChamberMaster//Event Calendar 2.0//EN
METHOD:PUBLISH
X-PUBLISHED-TTL:P3D
REFRESH-INTERVAL:P3D
CALSCALE:GREGORIAN
BEGIN:VEVENT
DTSTART:20250612T153000Z
DTEND:20250612T173000Z
X-MICROSOFT-CDO-ALLDAYEVENT:FALSE
SUMMARY:Grand Opening for Great Southern Homes
DESCRIPTION:Join us in celebrating our grand Opening for Great Southern Homes!
X-ALT-DESC;FMTTYPE=text/html:Join us in celebrating our grand Opening for Great Southern Homes!
LOCATION:114 Westfield Circle\, Conway\, SC 29526
UID:e.3251.3387
SEQUENCE:3
DTSTAMP:20260423T045005Z
URL:https://business.conwayscchamber.com/events/details/grand-opening-for-great-southern-homes-3387
END:VEVENT

END:VCALENDAR
