BEGIN:VCALENDAR
VERSION:2.0
PRODID:-//ChamberMaster//Event Calendar 2.0//EN
METHOD:PUBLISH
X-PUBLISHED-TTL:P3D
REFRESH-INTERVAL:P3D
CALSCALE:GREGORIAN
BEGIN:VEVENT
DTSTART:20260303T180000Z
DTEND:20260303T190000Z
X-MICROSOFT-CDO-ALLDAYEVENT:FALSE
SUMMARY:Genealogy Club
DESCRIPTION:We will share tips and tricks\, discuss successes and setbacks\, and work together on successful genealogy searches. This month we are learning how to use historical newspapers both online and on microfilm.
X-ALT-DESC;FMTTYPE=text/html:We will share tips and tricks\, discuss successes and setbacks\, and work together on successful genealogy searches. This month we are learning how to use historical newspapers both online and on microfilm.
LOCATION:Thompson Heritage and Research Library 1008 5th Avenue\, Conway\, SC 29526
UID:e.3251.3974
SEQUENCE:3
DTSTAMP:20260422T164101Z
URL:https://business.conwayscchamber.com/events/details/genealogy-club-3974
END:VEVENT

END:VCALENDAR
