BEGIN:VCALENDAR
VERSION:2.0
PRODID:-//ChamberMaster//Event Calendar 2.0//EN
METHOD:PUBLISH
X-PUBLISHED-TTL:P3D
REFRESH-INTERVAL:P3D
CALSCALE:GREGORIAN
BEGIN:VEVENT
DTSTART:20250111T140000Z
DTEND:20250111T160000Z
X-MICROSOFT-CDO-ALLDAYEVENT:FALSE
SUMMARY:Free Children’s Program at the L.W. Paul Living History Farm - Homemade Soap
DESCRIPTION:Join us for free 30 minute Saturday activities at the Farm! Parents can sign children up for a half hour session between 9 AM-11 AM. Group sizes will be limited. On January 11th children will learn about the importance of homemade soap on the family farm. Participants will also have a chance to make their own melt and pour soap to take home! For information about available times and to register\, contact Marian Calder at 843-915-7861 or email calder.marian@horrycountysc.gov . Available sessions are 9\, 9:30\, 10 or 10:30\, please specify which session you would like upon registering. The L.W. Paul Living History Farm is open Tuesday through Saturday\, 9 AM-4 PM and is located at 2279 Harris Short Cut Road\, Conway\, SC 29526.
X-ALT-DESC;FMTTYPE=text/html:Join us for free 30 minute Saturday activities at the Farm! Parents can sign children up for a half hour session between 9 AM-11 AM. Group sizes will be limited. On January 11th children will learn about the importance of homemade soap on the family farm. Participants will also have a chance to make their own melt and pour soap to take home! For information about available times and to register\, contact Marian Calder at 843-915-7861 or email calder.marian@horrycountysc.gov . Available sessions are 9\, 9:30\, 10 or 10:30\, please specify which session you would like upon registering. The L.W. Paul Living History Farm is open Tuesday through Saturday\, 9 AM-4 PM and is located at 2279 Harris Short Cut Road\, Conway\, SC 29526.
LOCATION:L.W. Paul Living History Farm
UID:e.3251.3217
SEQUENCE:3
DTSTAMP:20260423T122921Z
URL:https://business.conwayscchamber.com/events/details/free-children-s-program-at-the-l-w-paul-living-history-farm-homemade-soap-3217
END:VEVENT

END:VCALENDAR
