BEGIN:VCALENDAR
VERSION:2.0
PRODID:-//ChamberMaster//Event Calendar 2.0//EN
METHOD:PUBLISH
X-PUBLISHED-TTL:P3D
REFRESH-INTERVAL:P3D
CALSCALE:GREGORIAN
BEGIN:VEVENT
DTSTART:20260516T130000Z
DTEND:20260516T150000Z
X-MICROSOFT-CDO-ALLDAYEVENT:FALSE
SUMMARY:Free Children’s Program at the L.W. Paul Living History Farm
DESCRIPTION:Join us Saturday\, May 16th\, for a free 30 minute activity at the Farm! Parents can sign children up for a half hour session between 9 AM-11 AM. Group sizes will be limited. In this session we'll discuss the importance of canning and pickling on family farms. Children will also make their own 'refrigerator pickles' to take home. We will be using plastic containers for this activity. Parents may choose to bring a jar from home if they like. For information about available times and to register\, contact Marian Calder at 843-915-7861 or email calder.marian@horrycountysc.gov . Available sessions are 9\, 9:30\, 10 or 10:30\, please specify which session you would like upon registering. The L.W. Paul Living History Farm is open Tuesday through Saturday\, 9 AM-4 PM and is located at 2279 Harris Short Cut Road\, Conway\, SC 29526.
X-ALT-DESC;FMTTYPE=text/html:Join us Saturday\, May 16th\, for a free 30 minute activity at the Farm! Parents can sign children up for a half hour session between 9 AM-11 AM. Group sizes will be limited. In this session we&rsquo\;ll discuss the importance of canning and pickling on family farms. Children will also make their own &lsquo\;refrigerator pickles&rsquo\; to take home. We will be using plastic containers for this activity. Parents may choose to bring a jar from home if they like. For information about available times and to register\, contact Marian Calder at 843-915-7861 or email calder.marian@horrycountysc.gov . Available sessions are 9\, 9:30\, 10 or 10:30\, please specify which session you would like upon registering. The L.W. Paul Living History Farm is open Tuesday through Saturday\, 9 AM-4 PM and is located at 2279 Harris Short Cut Road\, Conway\, SC 29526.
LOCATION:L.W. Paul Living History Farm
UID:e.3251.4006
SEQUENCE:3
DTSTAMP:20260422T144257Z
URL:https://business.conwayscchamber.com/events/details/free-children-s-program-at-the-l-w-paul-living-history-farm-05-16-2026-4006
END:VEVENT

END:VCALENDAR
