BEGIN:VCALENDAR
VERSION:2.0
PRODID:-//ChamberMaster//Event Calendar 2.0//EN
METHOD:PUBLISH
X-PUBLISHED-TTL:P3D
REFRESH-INTERVAL:P3D
CALSCALE:GREGORIAN
BEGIN:VEVENT
DTSTART:20260502T130000Z
DTEND:20260502T130000Z
X-MICROSOFT-CDO-ALLDAYEVENT:FALSE
SUMMARY:Free Children’s Program at the L.W. Paul Living History Farm
DESCRIPTION:Join us Saturday\, May 2nd for an old-fashioned barn daubing! Children are invited to help with the upkeep of the Farm by helping us pack mud into joints on our log barn. Wear work clothes and be prepared to get dirty! No sign up is required. The L.W. Paul Living History Farm is open Tuesday through Saturday\, 9 AM-4 PM and is located at 2279 Harris Short Cut Road\, Conway\, SC 29526.
X-ALT-DESC;FMTTYPE=text/html:Join us Saturday\, May 2nd for an old-fashioned barn daubing! Children are invited to help with the upkeep of the Farm by helping us pack mud into joints on our log barn. Wear work clothes and be prepared to get dirty! No sign up is required. The L.W. Paul Living History Farm is open Tuesday through Saturday\, 9 AM-4 PM and is located at 2279 Harris Short Cut Road\, Conway\, SC 29526.
LOCATION:L.W. Paul Living History Farm
UID:e.3251.4003
SEQUENCE:3
DTSTAMP:20260422T084032Z
URL:https://business.conwayscchamber.com/events/details/free-children-s-program-at-the-l-w-paul-living-history-farm-05-02-2026-4003
END:VEVENT

END:VCALENDAR
