BEGIN:VCALENDAR
VERSION:2.0
PRODID:-//ChamberMaster//Event Calendar 2.0//EN
METHOD:PUBLISH
X-PUBLISHED-TTL:P3D
REFRESH-INTERVAL:P3D
CALSCALE:GREGORIAN
BEGIN:VEVENT
DTSTART:20251212T150000Z
DTEND:20251212T160000Z
X-MICROSOFT-CDO-ALLDAYEVENT:FALSE
SUMMARY:Freddy's Frozen Custard Grand Opening and Ribbon Cutting
DESCRIPTION:
X-ALT-DESC;FMTTYPE=text/html:
LOCATION:
UID:e.3251.3580
SEQUENCE:3
DTSTAMP:20260422T210654Z
URL:https://business.conwayscchamber.com/events/details/freddy-s-frozen-custard-grand-opening-and-ribbon-cutting-3580
END:VEVENT

END:VCALENDAR
