BEGIN:VCALENDAR
VERSION:2.0
PRODID:-//ChamberMaster//Event Calendar 2.0//EN
METHOD:PUBLISH
X-PUBLISHED-TTL:P3D
REFRESH-INTERVAL:P3D
CALSCALE:GREGORIAN
BEGIN:VEVENT
DTSTART:20260506T170000Z
DTEND:20260506T180000Z
X-MICROSOFT-CDO-ALLDAYEVENT:FALSE
SUMMARY:Forgotten Founder: Charles Pinckney
DESCRIPTION:The 2026 Horry County Museum Documentary Film Series continues with Forgotten Founder: Charles Pinckney. Part of the Carolina Stories Series by SCETV\, this film is a historical visualization of the biography of Charles Pinckney\, whose life serves as the basis for much of where and how we live today. Through the use of original digital artwork\, period illustrations\, historical documents\, dramatic reenactments\, and studio interviews\, this program weaves a tapestry that tells the story of a true public servant whose contributions to the birth of our nation and state are matched by no other historical figure. The film is free to the public and will be shown at 1:00 PM\, Wednesday\, May 6th\, at the Horry County Museum\, located at 805 Main Street in Conway. The Horry County Museum Documentary Film Matinees will continue throughout 2026. For a list of films\, visit our website at www.horrycountymuseum.org. For more information\, call the Horry County Museum at 843-915-5320 or e-mail hcg.museum@horrycountysc.gov.
X-ALT-DESC;FMTTYPE=text/html:The 2026 Horry County Museum Documentary Film Series continues with Forgotten Founder: Charles Pinckney. Part of the Carolina Stories Series by SCETV\, this film is a historical visualization of the biography of Charles Pinckney\, whose life serves as the basis for much of where and how we live today. Through the use of original digital artwork\, period illustrations\, historical documents\, dramatic reenactments\, and studio interviews\, this program weaves a tapestry that tells the story of a true public servant whose contributions to the birth of our nation and state are matched by no other historical figure. The film is free to the public and will be shown at 1:00 PM\, Wednesday\, May 6th\, at the Horry County Museum\, located at 805 Main Street in Conway. The Horry County Museum Documentary Film Matinees will continue throughout 2026. For a list of films\, visit our website at www.horrycountymuseum.org. For more information\, call the Horry County Museum at 843-915-5320 or e-mail hcg.museum@horrycountysc.gov.
LOCATION:Horry County Museum\, located at 805 Main Street in Conway
UID:e.3251.4009
SEQUENCE:3
DTSTAMP:20260422T144133Z
URL:https://business.conwayscchamber.com/events/details/forgotten-founder-charles-pinckney-05-06-2026-4009
END:VEVENT

END:VCALENDAR
