BEGIN:VCALENDAR
VERSION:2.0
PRODID:-//ChamberMaster//Event Calendar 2.0//EN
METHOD:PUBLISH
X-PUBLISHED-TTL:P3D
REFRESH-INTERVAL:P3D
CALSCALE:GREGORIAN
BEGIN:VEVENT
DTSTART:20260326T180000Z
DTEND:20260326T190000Z
X-MICROSOFT-CDO-ALLDAYEVENT:FALSE
SUMMARY:Felting Workshop at the Horry County Museum
DESCRIPTION:The Horry County Museum will host a free workshop on Felting for Beginners\, by Jill Messier. Participants will learn the basics of felting and will make a small polar bear to take home. The workshop will take place on Thursday\, March 26th at 2:00 PM. Space is limited\, pre-registration is required. Due to the nature of the tools being used\, this class is only open to ages 13 and up. To sign up\, contact Marian Calder at 843-915-7861 or email calder.marian@horrycountysc.gov. The Horry County Museum is located at 805 Main St.\, Conway\, SC 29526. For more information about programming at the Museum\, visit our website at www.horrycountymuseum.org.
X-ALT-DESC;FMTTYPE=text/html:The Horry County Museum will host a free workshop on Felting for Beginners\, by Jill Messier. Participants will learn the basics of felting and will make a small polar bear to take home. The workshop will take place on Thursday\, March 26th at 2:00 PM. Space is limited\, pre-registration is required. Due to the nature of the tools being used\, this class is only open to ages 13 and up. To sign up\, contact Marian Calder at 843-915-7861 or email calder.marian@horrycountysc.gov. The Horry County Museum is located at 805 Main St.\, Conway\, SC 29526. For more information about programming at the Museum\, visit our website at www.horrycountymuseum.org.
LOCATION:Horry County Museum
UID:e.3251.3965
SEQUENCE:3
DTSTAMP:20260422T150238Z
URL:https://business.conwayscchamber.com/events/details/felting-workshop-at-the-horry-county-museum-3965
END:VEVENT

END:VCALENDAR
