BEGIN:VCALENDAR
VERSION:2.0
PRODID:-//ChamberMaster//Event Calendar 2.0//EN
METHOD:PUBLISH
X-PUBLISHED-TTL:P3D
REFRESH-INTERVAL:P3D
CALSCALE:GREGORIAN
BEGIN:VEVENT
DTSTART:20250208T220000Z
DTEND:20250209T010000Z
X-MICROSOFT-CDO-ALLDAYEVENT:FALSE
SUMMARY:Father-Daughter Valentine's Ball
DESCRIPTION:
X-ALT-DESC;FMTTYPE=text/html:
LOCATION:Conway Sports and Fitness Center
UID:e.3251.3264
SEQUENCE:3
DTSTAMP:20260423T122810Z
URL:https://business.conwayscchamber.com/events/details/father-daughter-valentine-s-ball-3264
END:VEVENT

END:VCALENDAR
