BEGIN:VCALENDAR
VERSION:2.0
PRODID:-//ChamberMaster//Event Calendar 2.0//EN
METHOD:PUBLISH
X-PUBLISHED-TTL:P3D
REFRESH-INTERVAL:P3D
CALSCALE:GREGORIAN
BEGIN:VEVENT
DTSTART:20251025T130000Z
DTEND:20251025T200000Z
X-MICROSOFT-CDO-ALLDAYEVENT:FALSE
SUMMARY:“Fall Harvest Day at the L.W. Paul Living History Farm”
DESCRIPTION:Visitors of all ages are invited to join us Saturday\, October 25th from 9 AM-12 PM at the L.W. Paul Living History Farm as we bring in our fall harvest. The public is invited to help us dig up our sweet potato crop\, gather cotton\, and learn how to make corn husk dolls. Learn about the importance of various seasonal crops on the family farm and see how they would have been used\, from cooking to making toys for children. The L.W. Paul Living History Farm is open Tuesday-Saturday 9 AM-4 PM and teaches the history of the Horry County farm family from 1900-1955. The farm is free and open to the public and is located at the corner of Hwy 701 North and Harris Short Cut Road in Conway\, SC. For more information\, call the L. W. Paul Living History Farm at 843-915-5321 or email hcg.museum@horrycountysc.gov. For a full list of programs and events at the Horry County Museum and L.W. Paul Living History Farm\, visit www.horrycountymuseum.org.
X-ALT-DESC;FMTTYPE=text/html:Visitors of all ages are invited to join us Saturday\, October 25th from 9 AM-12 PM at the L.W. Paul Living History Farm as we bring in our fall harvest. The public is invited to help us dig up our sweet potato crop\, gather cotton\, and learn how to make corn husk dolls. Learn about the importance of various seasonal crops on the family farm and see how they would have been used\, from cooking to making toys for children. The L.W. Paul Living History Farm is open Tuesday-Saturday 9 AM-4 PM and teaches the history of the Horry County farm family from 1900-1955. The farm is free and open to the public and is located at the corner of Hwy 701 North and Harris Short Cut Road in Conway\, SC. For more information\, call the L. W. Paul Living History Farm at 843-915-5321 or email hcg.museum@horrycountysc.gov. For a full list of programs and events at the Horry County Museum and L.W. Paul Living History Farm\, visit www.horrycountymuseum.org.
LOCATION:L.W. Paul Living History Farm
UID:e.3251.3504
SEQUENCE:3
DTSTAMP:20260422T225000Z
URL:https://business.conwayscchamber.com/events/details/fall-harvest-day-at-the-l-w-paul-living-history-farm-3504
END:VEVENT

END:VCALENDAR
