BEGIN:VCALENDAR
VERSION:2.0
PRODID:-//ChamberMaster//Event Calendar 2.0//EN
METHOD:PUBLISH
X-PUBLISHED-TTL:P3D
REFRESH-INTERVAL:P3D
CALSCALE:GREGORIAN
BEGIN:VEVENT
DTSTART:20260114T170000Z
DTEND:20260114T190000Z
X-MICROSOFT-CDO-ALLDAYEVENT:FALSE
SUMMARY:Echo 6 Weapons Ribbon Cutting
DESCRIPTION:Join us Wednesday\, January 14 at 12 p.m. for the Ribbon Cutting and 10-Year Celebration of Echo Six! Come celebrate this milestone with us and help commemorate 10 years of success!
X-ALT-DESC;FMTTYPE=text/html:Join us Wednesday\, January 14 at 12 p.m. for the Ribbon Cutting and 10-Year Celebration of Echo Six! Come celebrate this milestone with us and help commemorate 10 years of success!
LOCATION:4753 Page Rd Galivants Ferry\, SC 29544
UID:e.3251.3601
SEQUENCE:3
DTSTAMP:20260422T182208Z
URL:https://business.conwayscchamber.com/events/details/echo-6-weapons-ribbon-cutting-3601
END:VEVENT

END:VCALENDAR
