BEGIN:VCALENDAR
VERSION:2.0
PRODID:-//ChamberMaster//Event Calendar 2.0//EN
METHOD:PUBLISH
X-PUBLISHED-TTL:P3D
REFRESH-INTERVAL:P3D
CALSCALE:GREGORIAN
BEGIN:VEVENT
DTSTART:20260121T210000Z
DTEND:20260121T223000Z
X-MICROSOFT-CDO-ALLDAYEVENT:FALSE
SUMMARY:Dirty South Soda Ribbon Cutting
DESCRIPTION:Join us Wednesday\, January 21 for the ribbon cutting of Dirty South Soda! Enjoy buy one get one 50% off until 5:30p.m.!
X-ALT-DESC;FMTTYPE=text/html:Join us Wednesday\, January 21 for the ribbon cutting of Dirty South Soda! Enjoy buy one get one 50% off until 5:30p.m.!
LOCATION:4633 Factory Stores Blvd Myrtle Beach\, SC 29579 Located beside the Croc store
UID:e.3251.3602
SEQUENCE:3
DTSTAMP:20260422T193429Z
URL:https://business.conwayscchamber.com/events/details/dirty-south-soda-ribbon-cutting-3602
END:VEVENT

END:VCALENDAR
