BEGIN:VCALENDAR
VERSION:2.0
PRODID:-//ChamberMaster//Event Calendar 2.0//EN
METHOD:PUBLISH
X-PUBLISHED-TTL:P3D
REFRESH-INTERVAL:P3D
CALSCALE:GREGORIAN
BEGIN:VEVENT
DTSTART:20230825T220000Z
DTEND:20230826T020000Z
X-MICROSOFT-CDO-ALLDAYEVENT:FALSE
SUMMARY:Conway Rotary Club @ Conway High School Football
DESCRIPTION:Conway Rotary Club will be assisting the Conway HS\, selling concessions at the 8/25/2023 football game\, vs Myrtle Beach HS.
X-ALT-DESC;FMTTYPE=text/html:Conway Rotary Club will be assisting the Conway HS\, selling concessions at the 8/25/2023 football game\, vs Myrtle Beach HS.
LOCATION:2301 Church Street Conway SC 29526
UID:e.3251.2014
SEQUENCE:3
DTSTAMP:20260424T140217Z
URL:https://business.conwayscchamber.com/events/details/conway-rotary-club-conway-high-school-football-2014
END:VEVENT

END:VCALENDAR
