BEGIN:VCALENDAR
VERSION:2.0
PRODID:-//ChamberMaster//Event Calendar 2.0//EN
METHOD:PUBLISH
X-PUBLISHED-TTL:P3D
REFRESH-INTERVAL:P3D
CALSCALE:GREGORIAN
BEGIN:VEVENT
DTSTART:20230721T170000Z
DTEND:20230721T180000Z
X-MICROSOFT-CDO-ALLDAYEVENT:FALSE
SUMMARY:Conway Lions Club Meeting
DESCRIPTION:The Conway Lions Club meets the first and third Friday of each month at 1 p.m. Meetings are held at the Mary Thompson Center. \n\nAnyone interested in joining is welcome to attend.
X-ALT-DESC;FMTTYPE=text/html:The Conway Lions Club meets the first and third Friday of each month at 1 p.m. Meetings are held at the Mary Thompson Center.&nbsp\;<br>\nAnyone interested in joining is welcome to attend.
LOCATION:Mary Thompson Center 1009 17th Ave\, Conway\, SC 29526
UID:e.3251.1428
SEQUENCE:3
DTSTAMP:20260424T123858Z
URL:https://business.conwayscchamber.com/events/details/conway-lions-club-meeting-07-21-2023-1428
END:VEVENT

END:VCALENDAR
